BEGIN:VCALENDAR
VERSION:2.0
PRODID:-//Espace Eclosion - ECPv6.15.20//NONSGML v1.0//EN
CALSCALE:GREGORIAN
METHOD:PUBLISH
X-WR-CALNAME:Espace Eclosion
X-ORIGINAL-URL:https://espaceeclosion.fr
X-WR-CALDESC:Évènements pour Espace Eclosion
REFRESH-INTERVAL;VALUE=DURATION:PT1H
X-Robots-Tag:noindex
X-PUBLISHED-TTL:PT1H
BEGIN:VTIMEZONE
TZID:Europe/Paris
BEGIN:DAYLIGHT
TZOFFSETFROM:+0100
TZOFFSETTO:+0200
TZNAME:CEST
DTSTART:20250330T010000
END:DAYLIGHT
BEGIN:STANDARD
TZOFFSETFROM:+0200
TZOFFSETTO:+0100
TZNAME:CET
DTSTART:20251026T010000
END:STANDARD
BEGIN:DAYLIGHT
TZOFFSETFROM:+0100
TZOFFSETTO:+0200
TZNAME:CEST
DTSTART:20260329T010000
END:DAYLIGHT
BEGIN:STANDARD
TZOFFSETFROM:+0200
TZOFFSETTO:+0100
TZNAME:CET
DTSTART:20261025T010000
END:STANDARD
BEGIN:DAYLIGHT
TZOFFSETFROM:+0100
TZOFFSETTO:+0200
TZNAME:CEST
DTSTART:20270328T010000
END:DAYLIGHT
BEGIN:STANDARD
TZOFFSETFROM:+0200
TZOFFSETTO:+0100
TZNAME:CET
DTSTART:20271031T010000
END:STANDARD
END:VTIMEZONE
BEGIN:VEVENT
DTSTART;VALUE=DATE:20260525
DTEND;VALUE=DATE:20260526
DTSTAMP:20260425T135802
CREATED:20240723T181540Z
LAST-MODIFIED:20240723T181540Z
UID:10014819-1779667200-1779753599@espaceeclosion.fr
SUMMARY:Pour visualiser le calendrier à la semaine ou par mois\, veuillez cliquer sur l'onglet liste à droite de l'écran . Merci
DESCRIPTION:
URL:https://espaceeclosion.fr/event/pour-visualiser-le-calendrier-a-la-semaine-ou-par-mois-veuillez-cliquer-sur-longlet-liste-a-droite-de-lecran-merci/2026-05-25/
LOCATION:Espace Eclosion\, 14 route de Clermont\, LE CENDRE\, 63670\, France
CATEGORIES:Calendrier Général Eclosion
ORGANIZER;CN="Association CANTACORDA":MAILTO:contacts@cantacorda.com
END:VEVENT
BEGIN:VEVENT
DTSTART;VALUE=DATE:20260526
DTEND;VALUE=DATE:20260527
DTSTAMP:20260425T135802
CREATED:20240723T181540Z
LAST-MODIFIED:20240723T181540Z
UID:10014820-1779753600-1779839999@espaceeclosion.fr
SUMMARY:Pour visualiser le calendrier à la semaine ou par mois\, veuillez cliquer sur l'onglet liste à droite de l'écran . Merci
DESCRIPTION:
URL:https://espaceeclosion.fr/event/pour-visualiser-le-calendrier-a-la-semaine-ou-par-mois-veuillez-cliquer-sur-longlet-liste-a-droite-de-lecran-merci/2026-05-26/
LOCATION:Espace Eclosion\, 14 route de Clermont\, LE CENDRE\, 63670\, France
CATEGORIES:Calendrier Général Eclosion
ORGANIZER;CN="Association CANTACORDA":MAILTO:contacts@cantacorda.com
END:VEVENT
BEGIN:VEVENT
DTSTART;VALUE=DATE:20260527
DTEND;VALUE=DATE:20260528
DTSTAMP:20260425T135802
CREATED:20240723T181540Z
LAST-MODIFIED:20240723T181540Z
UID:10014821-1779840000-1779926399@espaceeclosion.fr
SUMMARY:Pour visualiser le calendrier à la semaine ou par mois\, veuillez cliquer sur l'onglet liste à droite de l'écran . Merci
DESCRIPTION:
URL:https://espaceeclosion.fr/event/pour-visualiser-le-calendrier-a-la-semaine-ou-par-mois-veuillez-cliquer-sur-longlet-liste-a-droite-de-lecran-merci/2026-05-27/
LOCATION:Espace Eclosion\, 14 route de Clermont\, LE CENDRE\, 63670\, France
CATEGORIES:Calendrier Général Eclosion
ORGANIZER;CN="Association CANTACORDA":MAILTO:contacts@cantacorda.com
END:VEVENT
BEGIN:VEVENT
DTSTART;VALUE=DATE:20260528
DTEND;VALUE=DATE:20260529
DTSTAMP:20260425T135802
CREATED:20240723T181540Z
LAST-MODIFIED:20240723T181540Z
UID:10014822-1779926400-1780012799@espaceeclosion.fr
SUMMARY:Pour visualiser le calendrier à la semaine ou par mois\, veuillez cliquer sur l'onglet liste à droite de l'écran . Merci
DESCRIPTION:
URL:https://espaceeclosion.fr/event/pour-visualiser-le-calendrier-a-la-semaine-ou-par-mois-veuillez-cliquer-sur-longlet-liste-a-droite-de-lecran-merci/2026-05-28/
LOCATION:Espace Eclosion\, 14 route de Clermont\, LE CENDRE\, 63670\, France
CATEGORIES:Calendrier Général Eclosion
ORGANIZER;CN="Association CANTACORDA":MAILTO:contacts@cantacorda.com
END:VEVENT
BEGIN:VEVENT
DTSTART;VALUE=DATE:20260529
DTEND;VALUE=DATE:20260530
DTSTAMP:20260425T135802
CREATED:20240723T181540Z
LAST-MODIFIED:20240723T181540Z
UID:10014823-1780012800-1780099199@espaceeclosion.fr
SUMMARY:Pour visualiser le calendrier à la semaine ou par mois\, veuillez cliquer sur l'onglet liste à droite de l'écran . Merci
DESCRIPTION:
URL:https://espaceeclosion.fr/event/pour-visualiser-le-calendrier-a-la-semaine-ou-par-mois-veuillez-cliquer-sur-longlet-liste-a-droite-de-lecran-merci/2026-05-29/
LOCATION:Espace Eclosion\, 14 route de Clermont\, LE CENDRE\, 63670\, France
CATEGORIES:Calendrier Général Eclosion
ORGANIZER;CN="Association CANTACORDA":MAILTO:contacts@cantacorda.com
END:VEVENT
BEGIN:VEVENT
DTSTART;VALUE=DATE:20260530
DTEND;VALUE=DATE:20260531
DTSTAMP:20260425T135802
CREATED:20240723T181540Z
LAST-MODIFIED:20240723T181540Z
UID:10014824-1780099200-1780185599@espaceeclosion.fr
SUMMARY:Pour visualiser le calendrier à la semaine ou par mois\, veuillez cliquer sur l'onglet liste à droite de l'écran . Merci
DESCRIPTION:
URL:https://espaceeclosion.fr/event/pour-visualiser-le-calendrier-a-la-semaine-ou-par-mois-veuillez-cliquer-sur-longlet-liste-a-droite-de-lecran-merci/2026-05-30/
LOCATION:Espace Eclosion\, 14 route de Clermont\, LE CENDRE\, 63670\, France
CATEGORIES:Calendrier Général Eclosion
ORGANIZER;CN="Association CANTACORDA":MAILTO:contacts@cantacorda.com
END:VEVENT
BEGIN:VEVENT
DTSTART;VALUE=DATE:20260531
DTEND;VALUE=DATE:20260601
DTSTAMP:20260425T135802
CREATED:20240723T181540Z
LAST-MODIFIED:20240723T181540Z
UID:10014825-1780185600-1780271999@espaceeclosion.fr
SUMMARY:Pour visualiser le calendrier à la semaine ou par mois\, veuillez cliquer sur l'onglet liste à droite de l'écran . Merci
DESCRIPTION:
URL:https://espaceeclosion.fr/event/pour-visualiser-le-calendrier-a-la-semaine-ou-par-mois-veuillez-cliquer-sur-longlet-liste-a-droite-de-lecran-merci/2026-05-31/
LOCATION:Espace Eclosion\, 14 route de Clermont\, LE CENDRE\, 63670\, France
CATEGORIES:Calendrier Général Eclosion
ORGANIZER;CN="Association CANTACORDA":MAILTO:contacts@cantacorda.com
END:VEVENT
BEGIN:VEVENT
DTSTART;VALUE=DATE:20260601
DTEND;VALUE=DATE:20260602
DTSTAMP:20260425T135802
CREATED:20240723T181540Z
LAST-MODIFIED:20240723T181540Z
UID:10014826-1780272000-1780358399@espaceeclosion.fr
SUMMARY:Pour visualiser le calendrier à la semaine ou par mois\, veuillez cliquer sur l'onglet liste à droite de l'écran . Merci
DESCRIPTION:
URL:https://espaceeclosion.fr/event/pour-visualiser-le-calendrier-a-la-semaine-ou-par-mois-veuillez-cliquer-sur-longlet-liste-a-droite-de-lecran-merci/2026-06-01/
LOCATION:Espace Eclosion\, 14 route de Clermont\, LE CENDRE\, 63670\, France
CATEGORIES:Calendrier Général Eclosion
ORGANIZER;CN="Association CANTACORDA":MAILTO:contacts@cantacorda.com
END:VEVENT
BEGIN:VEVENT
DTSTART;VALUE=DATE:20260602
DTEND;VALUE=DATE:20260603
DTSTAMP:20260425T135802
CREATED:20240723T181540Z
LAST-MODIFIED:20240723T181540Z
UID:10014827-1780358400-1780444799@espaceeclosion.fr
SUMMARY:Pour visualiser le calendrier à la semaine ou par mois\, veuillez cliquer sur l'onglet liste à droite de l'écran . Merci
DESCRIPTION:
URL:https://espaceeclosion.fr/event/pour-visualiser-le-calendrier-a-la-semaine-ou-par-mois-veuillez-cliquer-sur-longlet-liste-a-droite-de-lecran-merci/2026-06-02/
LOCATION:Espace Eclosion\, 14 route de Clermont\, LE CENDRE\, 63670\, France
CATEGORIES:Calendrier Général Eclosion
ORGANIZER;CN="Association CANTACORDA":MAILTO:contacts@cantacorda.com
END:VEVENT
BEGIN:VEVENT
DTSTART;VALUE=DATE:20260603
DTEND;VALUE=DATE:20260604
DTSTAMP:20260425T135802
CREATED:20240723T181540Z
LAST-MODIFIED:20240723T181540Z
UID:10014828-1780444800-1780531199@espaceeclosion.fr
SUMMARY:Pour visualiser le calendrier à la semaine ou par mois\, veuillez cliquer sur l'onglet liste à droite de l'écran . Merci
DESCRIPTION:
URL:https://espaceeclosion.fr/event/pour-visualiser-le-calendrier-a-la-semaine-ou-par-mois-veuillez-cliquer-sur-longlet-liste-a-droite-de-lecran-merci/2026-06-03/
LOCATION:Espace Eclosion\, 14 route de Clermont\, LE CENDRE\, 63670\, France
CATEGORIES:Calendrier Général Eclosion
ORGANIZER;CN="Association CANTACORDA":MAILTO:contacts@cantacorda.com
END:VEVENT
BEGIN:VEVENT
DTSTART;VALUE=DATE:20260604
DTEND;VALUE=DATE:20260605
DTSTAMP:20260425T135802
CREATED:20240723T181540Z
LAST-MODIFIED:20240723T181540Z
UID:10014829-1780531200-1780617599@espaceeclosion.fr
SUMMARY:Pour visualiser le calendrier à la semaine ou par mois\, veuillez cliquer sur l'onglet liste à droite de l'écran . Merci
DESCRIPTION:
URL:https://espaceeclosion.fr/event/pour-visualiser-le-calendrier-a-la-semaine-ou-par-mois-veuillez-cliquer-sur-longlet-liste-a-droite-de-lecran-merci/2026-06-04/
LOCATION:Espace Eclosion\, 14 route de Clermont\, LE CENDRE\, 63670\, France
CATEGORIES:Calendrier Général Eclosion
ORGANIZER;CN="Association CANTACORDA":MAILTO:contacts@cantacorda.com
END:VEVENT
BEGIN:VEVENT
DTSTART;VALUE=DATE:20260605
DTEND;VALUE=DATE:20260606
DTSTAMP:20260425T135802
CREATED:20240723T181540Z
LAST-MODIFIED:20240723T181540Z
UID:10014830-1780617600-1780703999@espaceeclosion.fr
SUMMARY:Pour visualiser le calendrier à la semaine ou par mois\, veuillez cliquer sur l'onglet liste à droite de l'écran . Merci
DESCRIPTION:
URL:https://espaceeclosion.fr/event/pour-visualiser-le-calendrier-a-la-semaine-ou-par-mois-veuillez-cliquer-sur-longlet-liste-a-droite-de-lecran-merci/2026-06-05/
LOCATION:Espace Eclosion\, 14 route de Clermont\, LE CENDRE\, 63670\, France
CATEGORIES:Calendrier Général Eclosion
ORGANIZER;CN="Association CANTACORDA":MAILTO:contacts@cantacorda.com
END:VEVENT
BEGIN:VEVENT
DTSTART;VALUE=DATE:20260606
DTEND;VALUE=DATE:20260607
DTSTAMP:20260425T135802
CREATED:20240723T181540Z
LAST-MODIFIED:20240723T181540Z
UID:10014831-1780704000-1780790399@espaceeclosion.fr
SUMMARY:Pour visualiser le calendrier à la semaine ou par mois\, veuillez cliquer sur l'onglet liste à droite de l'écran . Merci
DESCRIPTION:
URL:https://espaceeclosion.fr/event/pour-visualiser-le-calendrier-a-la-semaine-ou-par-mois-veuillez-cliquer-sur-longlet-liste-a-droite-de-lecran-merci/2026-06-06/
LOCATION:Espace Eclosion\, 14 route de Clermont\, LE CENDRE\, 63670\, France
CATEGORIES:Calendrier Général Eclosion
ORGANIZER;CN="Association CANTACORDA":MAILTO:contacts@cantacorda.com
END:VEVENT
BEGIN:VEVENT
DTSTART;VALUE=DATE:20260607
DTEND;VALUE=DATE:20260608
DTSTAMP:20260425T135802
CREATED:20240723T181540Z
LAST-MODIFIED:20240723T181540Z
UID:10014832-1780790400-1780876799@espaceeclosion.fr
SUMMARY:Pour visualiser le calendrier à la semaine ou par mois\, veuillez cliquer sur l'onglet liste à droite de l'écran . Merci
DESCRIPTION:
URL:https://espaceeclosion.fr/event/pour-visualiser-le-calendrier-a-la-semaine-ou-par-mois-veuillez-cliquer-sur-longlet-liste-a-droite-de-lecran-merci/2026-06-07/
LOCATION:Espace Eclosion\, 14 route de Clermont\, LE CENDRE\, 63670\, France
CATEGORIES:Calendrier Général Eclosion
ORGANIZER;CN="Association CANTACORDA":MAILTO:contacts@cantacorda.com
END:VEVENT
BEGIN:VEVENT
DTSTART;VALUE=DATE:20260608
DTEND;VALUE=DATE:20260609
DTSTAMP:20260425T135802
CREATED:20240723T181540Z
LAST-MODIFIED:20240723T181540Z
UID:10014833-1780876800-1780963199@espaceeclosion.fr
SUMMARY:Pour visualiser le calendrier à la semaine ou par mois\, veuillez cliquer sur l'onglet liste à droite de l'écran . Merci
DESCRIPTION:
URL:https://espaceeclosion.fr/event/pour-visualiser-le-calendrier-a-la-semaine-ou-par-mois-veuillez-cliquer-sur-longlet-liste-a-droite-de-lecran-merci/2026-06-08/
LOCATION:Espace Eclosion\, 14 route de Clermont\, LE CENDRE\, 63670\, France
CATEGORIES:Calendrier Général Eclosion
ORGANIZER;CN="Association CANTACORDA":MAILTO:contacts@cantacorda.com
END:VEVENT
BEGIN:VEVENT
DTSTART;VALUE=DATE:20260609
DTEND;VALUE=DATE:20260610
DTSTAMP:20260425T135802
CREATED:20240723T181540Z
LAST-MODIFIED:20240723T181540Z
UID:10014834-1780963200-1781049599@espaceeclosion.fr
SUMMARY:Pour visualiser le calendrier à la semaine ou par mois\, veuillez cliquer sur l'onglet liste à droite de l'écran . Merci
DESCRIPTION:
URL:https://espaceeclosion.fr/event/pour-visualiser-le-calendrier-a-la-semaine-ou-par-mois-veuillez-cliquer-sur-longlet-liste-a-droite-de-lecran-merci/2026-06-09/
LOCATION:Espace Eclosion\, 14 route de Clermont\, LE CENDRE\, 63670\, France
CATEGORIES:Calendrier Général Eclosion
ORGANIZER;CN="Association CANTACORDA":MAILTO:contacts@cantacorda.com
END:VEVENT
BEGIN:VEVENT
DTSTART;VALUE=DATE:20260610
DTEND;VALUE=DATE:20260611
DTSTAMP:20260425T135802
CREATED:20240723T181540Z
LAST-MODIFIED:20240723T181540Z
UID:10014835-1781049600-1781135999@espaceeclosion.fr
SUMMARY:Pour visualiser le calendrier à la semaine ou par mois\, veuillez cliquer sur l'onglet liste à droite de l'écran . Merci
DESCRIPTION:
URL:https://espaceeclosion.fr/event/pour-visualiser-le-calendrier-a-la-semaine-ou-par-mois-veuillez-cliquer-sur-longlet-liste-a-droite-de-lecran-merci/2026-06-10/
LOCATION:Espace Eclosion\, 14 route de Clermont\, LE CENDRE\, 63670\, France
CATEGORIES:Calendrier Général Eclosion
ORGANIZER;CN="Association CANTACORDA":MAILTO:contacts@cantacorda.com
END:VEVENT
BEGIN:VEVENT
DTSTART;VALUE=DATE:20260611
DTEND;VALUE=DATE:20260612
DTSTAMP:20260425T135802
CREATED:20240723T181540Z
LAST-MODIFIED:20240723T181540Z
UID:10014836-1781136000-1781222399@espaceeclosion.fr
SUMMARY:Pour visualiser le calendrier à la semaine ou par mois\, veuillez cliquer sur l'onglet liste à droite de l'écran . Merci
DESCRIPTION:
URL:https://espaceeclosion.fr/event/pour-visualiser-le-calendrier-a-la-semaine-ou-par-mois-veuillez-cliquer-sur-longlet-liste-a-droite-de-lecran-merci/2026-06-11/
LOCATION:Espace Eclosion\, 14 route de Clermont\, LE CENDRE\, 63670\, France
CATEGORIES:Calendrier Général Eclosion
ORGANIZER;CN="Association CANTACORDA":MAILTO:contacts@cantacorda.com
END:VEVENT
BEGIN:VEVENT
DTSTART;VALUE=DATE:20260612
DTEND;VALUE=DATE:20260613
DTSTAMP:20260425T135802
CREATED:20240723T181540Z
LAST-MODIFIED:20240723T181540Z
UID:10014837-1781222400-1781308799@espaceeclosion.fr
SUMMARY:Pour visualiser le calendrier à la semaine ou par mois\, veuillez cliquer sur l'onglet liste à droite de l'écran . Merci
DESCRIPTION:
URL:https://espaceeclosion.fr/event/pour-visualiser-le-calendrier-a-la-semaine-ou-par-mois-veuillez-cliquer-sur-longlet-liste-a-droite-de-lecran-merci/2026-06-12/
LOCATION:Espace Eclosion\, 14 route de Clermont\, LE CENDRE\, 63670\, France
CATEGORIES:Calendrier Général Eclosion
ORGANIZER;CN="Association CANTACORDA":MAILTO:contacts@cantacorda.com
END:VEVENT
BEGIN:VEVENT
DTSTART;VALUE=DATE:20260613
DTEND;VALUE=DATE:20260614
DTSTAMP:20260425T135802
CREATED:20240723T181540Z
LAST-MODIFIED:20240723T181540Z
UID:10014838-1781308800-1781395199@espaceeclosion.fr
SUMMARY:Pour visualiser le calendrier à la semaine ou par mois\, veuillez cliquer sur l'onglet liste à droite de l'écran . Merci
DESCRIPTION:
URL:https://espaceeclosion.fr/event/pour-visualiser-le-calendrier-a-la-semaine-ou-par-mois-veuillez-cliquer-sur-longlet-liste-a-droite-de-lecran-merci/2026-06-13/
LOCATION:Espace Eclosion\, 14 route de Clermont\, LE CENDRE\, 63670\, France
CATEGORIES:Calendrier Général Eclosion
ORGANIZER;CN="Association CANTACORDA":MAILTO:contacts@cantacorda.com
END:VEVENT
BEGIN:VEVENT
DTSTART;VALUE=DATE:20260614
DTEND;VALUE=DATE:20260615
DTSTAMP:20260425T135802
CREATED:20240723T181540Z
LAST-MODIFIED:20240723T181540Z
UID:10014839-1781395200-1781481599@espaceeclosion.fr
SUMMARY:Pour visualiser le calendrier à la semaine ou par mois\, veuillez cliquer sur l'onglet liste à droite de l'écran . Merci
DESCRIPTION:
URL:https://espaceeclosion.fr/event/pour-visualiser-le-calendrier-a-la-semaine-ou-par-mois-veuillez-cliquer-sur-longlet-liste-a-droite-de-lecran-merci/2026-06-14/
LOCATION:Espace Eclosion\, 14 route de Clermont\, LE CENDRE\, 63670\, France
CATEGORIES:Calendrier Général Eclosion
ORGANIZER;CN="Association CANTACORDA":MAILTO:contacts@cantacorda.com
END:VEVENT
BEGIN:VEVENT
DTSTART;VALUE=DATE:20260615
DTEND;VALUE=DATE:20260616
DTSTAMP:20260425T135802
CREATED:20240723T181540Z
LAST-MODIFIED:20240723T181540Z
UID:10014840-1781481600-1781567999@espaceeclosion.fr
SUMMARY:Pour visualiser le calendrier à la semaine ou par mois\, veuillez cliquer sur l'onglet liste à droite de l'écran . Merci
DESCRIPTION:
URL:https://espaceeclosion.fr/event/pour-visualiser-le-calendrier-a-la-semaine-ou-par-mois-veuillez-cliquer-sur-longlet-liste-a-droite-de-lecran-merci/2026-06-15/
LOCATION:Espace Eclosion\, 14 route de Clermont\, LE CENDRE\, 63670\, France
CATEGORIES:Calendrier Général Eclosion
ORGANIZER;CN="Association CANTACORDA":MAILTO:contacts@cantacorda.com
END:VEVENT
BEGIN:VEVENT
DTSTART;VALUE=DATE:20260616
DTEND;VALUE=DATE:20260617
DTSTAMP:20260425T135802
CREATED:20240723T181540Z
LAST-MODIFIED:20240723T181540Z
UID:10014841-1781568000-1781654399@espaceeclosion.fr
SUMMARY:Pour visualiser le calendrier à la semaine ou par mois\, veuillez cliquer sur l'onglet liste à droite de l'écran . Merci
DESCRIPTION:
URL:https://espaceeclosion.fr/event/pour-visualiser-le-calendrier-a-la-semaine-ou-par-mois-veuillez-cliquer-sur-longlet-liste-a-droite-de-lecran-merci/2026-06-16/
LOCATION:Espace Eclosion\, 14 route de Clermont\, LE CENDRE\, 63670\, France
CATEGORIES:Calendrier Général Eclosion
ORGANIZER;CN="Association CANTACORDA":MAILTO:contacts@cantacorda.com
END:VEVENT
BEGIN:VEVENT
DTSTART;VALUE=DATE:20260617
DTEND;VALUE=DATE:20260618
DTSTAMP:20260425T135802
CREATED:20240723T181540Z
LAST-MODIFIED:20240723T181540Z
UID:10014842-1781654400-1781740799@espaceeclosion.fr
SUMMARY:Pour visualiser le calendrier à la semaine ou par mois\, veuillez cliquer sur l'onglet liste à droite de l'écran . Merci
DESCRIPTION:
URL:https://espaceeclosion.fr/event/pour-visualiser-le-calendrier-a-la-semaine-ou-par-mois-veuillez-cliquer-sur-longlet-liste-a-droite-de-lecran-merci/2026-06-17/
LOCATION:Espace Eclosion\, 14 route de Clermont\, LE CENDRE\, 63670\, France
CATEGORIES:Calendrier Général Eclosion
ORGANIZER;CN="Association CANTACORDA":MAILTO:contacts@cantacorda.com
END:VEVENT
BEGIN:VEVENT
DTSTART;VALUE=DATE:20260618
DTEND;VALUE=DATE:20260619
DTSTAMP:20260425T135802
CREATED:20240723T181540Z
LAST-MODIFIED:20240723T181540Z
UID:10014843-1781740800-1781827199@espaceeclosion.fr
SUMMARY:Pour visualiser le calendrier à la semaine ou par mois\, veuillez cliquer sur l'onglet liste à droite de l'écran . Merci
DESCRIPTION:
URL:https://espaceeclosion.fr/event/pour-visualiser-le-calendrier-a-la-semaine-ou-par-mois-veuillez-cliquer-sur-longlet-liste-a-droite-de-lecran-merci/2026-06-18/
LOCATION:Espace Eclosion\, 14 route de Clermont\, LE CENDRE\, 63670\, France
CATEGORIES:Calendrier Général Eclosion
ORGANIZER;CN="Association CANTACORDA":MAILTO:contacts@cantacorda.com
END:VEVENT
BEGIN:VEVENT
DTSTART;VALUE=DATE:20260619
DTEND;VALUE=DATE:20260620
DTSTAMP:20260425T135802
CREATED:20240723T181540Z
LAST-MODIFIED:20240723T181540Z
UID:10014844-1781827200-1781913599@espaceeclosion.fr
SUMMARY:Pour visualiser le calendrier à la semaine ou par mois\, veuillez cliquer sur l'onglet liste à droite de l'écran . Merci
DESCRIPTION:
URL:https://espaceeclosion.fr/event/pour-visualiser-le-calendrier-a-la-semaine-ou-par-mois-veuillez-cliquer-sur-longlet-liste-a-droite-de-lecran-merci/2026-06-19/
LOCATION:Espace Eclosion\, 14 route de Clermont\, LE CENDRE\, 63670\, France
CATEGORIES:Calendrier Général Eclosion
ORGANIZER;CN="Association CANTACORDA":MAILTO:contacts@cantacorda.com
END:VEVENT
BEGIN:VEVENT
DTSTART;VALUE=DATE:20260620
DTEND;VALUE=DATE:20260621
DTSTAMP:20260425T135802
CREATED:20240723T181540Z
LAST-MODIFIED:20240723T181540Z
UID:10014845-1781913600-1781999999@espaceeclosion.fr
SUMMARY:Pour visualiser le calendrier à la semaine ou par mois\, veuillez cliquer sur l'onglet liste à droite de l'écran . Merci
DESCRIPTION:
URL:https://espaceeclosion.fr/event/pour-visualiser-le-calendrier-a-la-semaine-ou-par-mois-veuillez-cliquer-sur-longlet-liste-a-droite-de-lecran-merci/2026-06-20/
LOCATION:Espace Eclosion\, 14 route de Clermont\, LE CENDRE\, 63670\, France
CATEGORIES:Calendrier Général Eclosion
ORGANIZER;CN="Association CANTACORDA":MAILTO:contacts@cantacorda.com
END:VEVENT
BEGIN:VEVENT
DTSTART;VALUE=DATE:20260621
DTEND;VALUE=DATE:20260622
DTSTAMP:20260425T135802
CREATED:20240723T181540Z
LAST-MODIFIED:20240723T181540Z
UID:10014846-1782000000-1782086399@espaceeclosion.fr
SUMMARY:Pour visualiser le calendrier à la semaine ou par mois\, veuillez cliquer sur l'onglet liste à droite de l'écran . Merci
DESCRIPTION:
URL:https://espaceeclosion.fr/event/pour-visualiser-le-calendrier-a-la-semaine-ou-par-mois-veuillez-cliquer-sur-longlet-liste-a-droite-de-lecran-merci/2026-06-21/
LOCATION:Espace Eclosion\, 14 route de Clermont\, LE CENDRE\, 63670\, France
CATEGORIES:Calendrier Général Eclosion
ORGANIZER;CN="Association CANTACORDA":MAILTO:contacts@cantacorda.com
END:VEVENT
BEGIN:VEVENT
DTSTART;VALUE=DATE:20260622
DTEND;VALUE=DATE:20260623
DTSTAMP:20260425T135802
CREATED:20240723T181540Z
LAST-MODIFIED:20240723T181540Z
UID:10014847-1782086400-1782172799@espaceeclosion.fr
SUMMARY:Pour visualiser le calendrier à la semaine ou par mois\, veuillez cliquer sur l'onglet liste à droite de l'écran . Merci
DESCRIPTION:
URL:https://espaceeclosion.fr/event/pour-visualiser-le-calendrier-a-la-semaine-ou-par-mois-veuillez-cliquer-sur-longlet-liste-a-droite-de-lecran-merci/2026-06-22/
LOCATION:Espace Eclosion\, 14 route de Clermont\, LE CENDRE\, 63670\, France
CATEGORIES:Calendrier Général Eclosion
ORGANIZER;CN="Association CANTACORDA":MAILTO:contacts@cantacorda.com
END:VEVENT
BEGIN:VEVENT
DTSTART;VALUE=DATE:20260623
DTEND;VALUE=DATE:20260624
DTSTAMP:20260425T135802
CREATED:20240723T181540Z
LAST-MODIFIED:20240723T181540Z
UID:10014848-1782172800-1782259199@espaceeclosion.fr
SUMMARY:Pour visualiser le calendrier à la semaine ou par mois\, veuillez cliquer sur l'onglet liste à droite de l'écran . Merci
DESCRIPTION:
URL:https://espaceeclosion.fr/event/pour-visualiser-le-calendrier-a-la-semaine-ou-par-mois-veuillez-cliquer-sur-longlet-liste-a-droite-de-lecran-merci/2026-06-23/
LOCATION:Espace Eclosion\, 14 route de Clermont\, LE CENDRE\, 63670\, France
CATEGORIES:Calendrier Général Eclosion
ORGANIZER;CN="Association CANTACORDA":MAILTO:contacts@cantacorda.com
END:VEVENT
END:VCALENDAR