BEGIN:VCALENDAR
VERSION:2.0
PRODID:-//Espace Eclosion - ECPv6.15.20//NONSGML v1.0//EN
CALSCALE:GREGORIAN
METHOD:PUBLISH
X-ORIGINAL-URL:https://espaceeclosion.fr
X-WR-CALDESC:Évènements pour Espace Eclosion
REFRESH-INTERVAL;VALUE=DURATION:PT1H
X-Robots-Tag:noindex
X-PUBLISHED-TTL:PT1H
BEGIN:VTIMEZONE
TZID:Europe/Paris
BEGIN:DAYLIGHT
TZOFFSETFROM:+0100
TZOFFSETTO:+0200
TZNAME:CEST
DTSTART:20250330T010000
END:DAYLIGHT
BEGIN:STANDARD
TZOFFSETFROM:+0200
TZOFFSETTO:+0100
TZNAME:CET
DTSTART:20251026T010000
END:STANDARD
BEGIN:DAYLIGHT
TZOFFSETFROM:+0100
TZOFFSETTO:+0200
TZNAME:CEST
DTSTART:20260329T010000
END:DAYLIGHT
BEGIN:STANDARD
TZOFFSETFROM:+0200
TZOFFSETTO:+0100
TZNAME:CET
DTSTART:20261025T010000
END:STANDARD
BEGIN:DAYLIGHT
TZOFFSETFROM:+0100
TZOFFSETTO:+0200
TZNAME:CEST
DTSTART:20270328T010000
END:DAYLIGHT
BEGIN:STANDARD
TZOFFSETFROM:+0200
TZOFFSETTO:+0100
TZNAME:CET
DTSTART:20271031T010000
END:STANDARD
END:VTIMEZONE
BEGIN:VEVENT
DTSTART;VALUE=DATE:20260424
DTEND;VALUE=DATE:20260425
DTSTAMP:20260425T161043
CREATED:20240723T181540Z
LAST-MODIFIED:20240723T181540Z
UID:10014788-1776988800-1777075199@espaceeclosion.fr
SUMMARY:Pour visualiser le calendrier à la semaine ou par mois\, veuillez cliquer sur l'onglet liste à droite de l'écran . Merci
DESCRIPTION:
URL:https://espaceeclosion.fr/event/pour-visualiser-le-calendrier-a-la-semaine-ou-par-mois-veuillez-cliquer-sur-longlet-liste-a-droite-de-lecran-merci/2026-04-24/
LOCATION:Espace Eclosion\, 14 route de Clermont\, LE CENDRE\, 63670\, France
CATEGORIES:Calendrier Général Eclosion
ORGANIZER;CN="Association CANTACORDA":MAILTO:contacts@cantacorda.com
END:VEVENT
BEGIN:VEVENT
DTSTART;VALUE=DATE:20260423
DTEND;VALUE=DATE:20260424
DTSTAMP:20260425T161043
CREATED:20240723T181540Z
LAST-MODIFIED:20240723T181540Z
UID:10014787-1776902400-1776988799@espaceeclosion.fr
SUMMARY:Pour visualiser le calendrier à la semaine ou par mois\, veuillez cliquer sur l'onglet liste à droite de l'écran . Merci
DESCRIPTION:
URL:https://espaceeclosion.fr/event/pour-visualiser-le-calendrier-a-la-semaine-ou-par-mois-veuillez-cliquer-sur-longlet-liste-a-droite-de-lecran-merci/2026-04-23/
LOCATION:Espace Eclosion\, 14 route de Clermont\, LE CENDRE\, 63670\, France
CATEGORIES:Calendrier Général Eclosion
ORGANIZER;CN="Association CANTACORDA":MAILTO:contacts@cantacorda.com
END:VEVENT
BEGIN:VEVENT
DTSTART;VALUE=DATE:20260422
DTEND;VALUE=DATE:20260423
DTSTAMP:20260425T161043
CREATED:20240723T181540Z
LAST-MODIFIED:20240723T181540Z
UID:10014786-1776816000-1776902399@espaceeclosion.fr
SUMMARY:Pour visualiser le calendrier à la semaine ou par mois\, veuillez cliquer sur l'onglet liste à droite de l'écran . Merci
DESCRIPTION:
URL:https://espaceeclosion.fr/event/pour-visualiser-le-calendrier-a-la-semaine-ou-par-mois-veuillez-cliquer-sur-longlet-liste-a-droite-de-lecran-merci/2026-04-22/
LOCATION:Espace Eclosion\, 14 route de Clermont\, LE CENDRE\, 63670\, France
CATEGORIES:Calendrier Général Eclosion
ORGANIZER;CN="Association CANTACORDA":MAILTO:contacts@cantacorda.com
END:VEVENT
BEGIN:VEVENT
DTSTART;VALUE=DATE:20260421
DTEND;VALUE=DATE:20260422
DTSTAMP:20260425T161043
CREATED:20240723T181540Z
LAST-MODIFIED:20240723T181540Z
UID:10014785-1776729600-1776815999@espaceeclosion.fr
SUMMARY:Pour visualiser le calendrier à la semaine ou par mois\, veuillez cliquer sur l'onglet liste à droite de l'écran . Merci
DESCRIPTION:
URL:https://espaceeclosion.fr/event/pour-visualiser-le-calendrier-a-la-semaine-ou-par-mois-veuillez-cliquer-sur-longlet-liste-a-droite-de-lecran-merci/2026-04-21/
LOCATION:Espace Eclosion\, 14 route de Clermont\, LE CENDRE\, 63670\, France
CATEGORIES:Calendrier Général Eclosion
ORGANIZER;CN="Association CANTACORDA":MAILTO:contacts@cantacorda.com
END:VEVENT
BEGIN:VEVENT
DTSTART;VALUE=DATE:20260420
DTEND;VALUE=DATE:20260421
DTSTAMP:20260425T161043
CREATED:20240723T181540Z
LAST-MODIFIED:20240723T181540Z
UID:10014784-1776643200-1776729599@espaceeclosion.fr
SUMMARY:Pour visualiser le calendrier à la semaine ou par mois\, veuillez cliquer sur l'onglet liste à droite de l'écran . Merci
DESCRIPTION:
URL:https://espaceeclosion.fr/event/pour-visualiser-le-calendrier-a-la-semaine-ou-par-mois-veuillez-cliquer-sur-longlet-liste-a-droite-de-lecran-merci/2026-04-20/
LOCATION:Espace Eclosion\, 14 route de Clermont\, LE CENDRE\, 63670\, France
CATEGORIES:Calendrier Général Eclosion
ORGANIZER;CN="Association CANTACORDA":MAILTO:contacts@cantacorda.com
END:VEVENT
BEGIN:VEVENT
DTSTART;VALUE=DATE:20260419
DTEND;VALUE=DATE:20260420
DTSTAMP:20260425T161043
CREATED:20240723T181540Z
LAST-MODIFIED:20240723T181540Z
UID:10014783-1776556800-1776643199@espaceeclosion.fr
SUMMARY:Pour visualiser le calendrier à la semaine ou par mois\, veuillez cliquer sur l'onglet liste à droite de l'écran . Merci
DESCRIPTION:
URL:https://espaceeclosion.fr/event/pour-visualiser-le-calendrier-a-la-semaine-ou-par-mois-veuillez-cliquer-sur-longlet-liste-a-droite-de-lecran-merci/2026-04-19/
LOCATION:Espace Eclosion\, 14 route de Clermont\, LE CENDRE\, 63670\, France
CATEGORIES:Calendrier Général Eclosion
ORGANIZER;CN="Association CANTACORDA":MAILTO:contacts@cantacorda.com
END:VEVENT
BEGIN:VEVENT
DTSTART;VALUE=DATE:20260418
DTEND;VALUE=DATE:20260419
DTSTAMP:20260425T161043
CREATED:20240723T181540Z
LAST-MODIFIED:20240723T181540Z
UID:10014782-1776470400-1776556799@espaceeclosion.fr
SUMMARY:Pour visualiser le calendrier à la semaine ou par mois\, veuillez cliquer sur l'onglet liste à droite de l'écran . Merci
DESCRIPTION:
URL:https://espaceeclosion.fr/event/pour-visualiser-le-calendrier-a-la-semaine-ou-par-mois-veuillez-cliquer-sur-longlet-liste-a-droite-de-lecran-merci/2026-04-18/
LOCATION:Espace Eclosion\, 14 route de Clermont\, LE CENDRE\, 63670\, France
CATEGORIES:Calendrier Général Eclosion
ORGANIZER;CN="Association CANTACORDA":MAILTO:contacts@cantacorda.com
END:VEVENT
BEGIN:VEVENT
DTSTART;VALUE=DATE:20260417
DTEND;VALUE=DATE:20260418
DTSTAMP:20260425T161043
CREATED:20240723T181540Z
LAST-MODIFIED:20240723T181540Z
UID:10014781-1776384000-1776470399@espaceeclosion.fr
SUMMARY:Pour visualiser le calendrier à la semaine ou par mois\, veuillez cliquer sur l'onglet liste à droite de l'écran . Merci
DESCRIPTION:
URL:https://espaceeclosion.fr/event/pour-visualiser-le-calendrier-a-la-semaine-ou-par-mois-veuillez-cliquer-sur-longlet-liste-a-droite-de-lecran-merci/2026-04-17/
LOCATION:Espace Eclosion\, 14 route de Clermont\, LE CENDRE\, 63670\, France
CATEGORIES:Calendrier Général Eclosion
ORGANIZER;CN="Association CANTACORDA":MAILTO:contacts@cantacorda.com
END:VEVENT
BEGIN:VEVENT
DTSTART;VALUE=DATE:20260416
DTEND;VALUE=DATE:20260417
DTSTAMP:20260425T161043
CREATED:20240723T181540Z
LAST-MODIFIED:20240723T181540Z
UID:10014780-1776297600-1776383999@espaceeclosion.fr
SUMMARY:Pour visualiser le calendrier à la semaine ou par mois\, veuillez cliquer sur l'onglet liste à droite de l'écran . Merci
DESCRIPTION:
URL:https://espaceeclosion.fr/event/pour-visualiser-le-calendrier-a-la-semaine-ou-par-mois-veuillez-cliquer-sur-longlet-liste-a-droite-de-lecran-merci/2026-04-16/
LOCATION:Espace Eclosion\, 14 route de Clermont\, LE CENDRE\, 63670\, France
CATEGORIES:Calendrier Général Eclosion
ORGANIZER;CN="Association CANTACORDA":MAILTO:contacts@cantacorda.com
END:VEVENT
BEGIN:VEVENT
DTSTART;VALUE=DATE:20260415
DTEND;VALUE=DATE:20260416
DTSTAMP:20260425T161043
CREATED:20240723T181540Z
LAST-MODIFIED:20240723T181540Z
UID:10014779-1776211200-1776297599@espaceeclosion.fr
SUMMARY:Pour visualiser le calendrier à la semaine ou par mois\, veuillez cliquer sur l'onglet liste à droite de l'écran . Merci
DESCRIPTION:
URL:https://espaceeclosion.fr/event/pour-visualiser-le-calendrier-a-la-semaine-ou-par-mois-veuillez-cliquer-sur-longlet-liste-a-droite-de-lecran-merci/2026-04-15/
LOCATION:Espace Eclosion\, 14 route de Clermont\, LE CENDRE\, 63670\, France
CATEGORIES:Calendrier Général Eclosion
ORGANIZER;CN="Association CANTACORDA":MAILTO:contacts@cantacorda.com
END:VEVENT
BEGIN:VEVENT
DTSTART;VALUE=DATE:20260414
DTEND;VALUE=DATE:20260415
DTSTAMP:20260425T161043
CREATED:20240723T181540Z
LAST-MODIFIED:20240723T181540Z
UID:10014778-1776124800-1776211199@espaceeclosion.fr
SUMMARY:Pour visualiser le calendrier à la semaine ou par mois\, veuillez cliquer sur l'onglet liste à droite de l'écran . Merci
DESCRIPTION:
URL:https://espaceeclosion.fr/event/pour-visualiser-le-calendrier-a-la-semaine-ou-par-mois-veuillez-cliquer-sur-longlet-liste-a-droite-de-lecran-merci/2026-04-14/
LOCATION:Espace Eclosion\, 14 route de Clermont\, LE CENDRE\, 63670\, France
CATEGORIES:Calendrier Général Eclosion
ORGANIZER;CN="Association CANTACORDA":MAILTO:contacts@cantacorda.com
END:VEVENT
BEGIN:VEVENT
DTSTART;VALUE=DATE:20260413
DTEND;VALUE=DATE:20260414
DTSTAMP:20260425T161043
CREATED:20240723T181540Z
LAST-MODIFIED:20240723T181540Z
UID:10014777-1776038400-1776124799@espaceeclosion.fr
SUMMARY:Pour visualiser le calendrier à la semaine ou par mois\, veuillez cliquer sur l'onglet liste à droite de l'écran . Merci
DESCRIPTION:
URL:https://espaceeclosion.fr/event/pour-visualiser-le-calendrier-a-la-semaine-ou-par-mois-veuillez-cliquer-sur-longlet-liste-a-droite-de-lecran-merci/2026-04-13/
LOCATION:Espace Eclosion\, 14 route de Clermont\, LE CENDRE\, 63670\, France
CATEGORIES:Calendrier Général Eclosion
ORGANIZER;CN="Association CANTACORDA":MAILTO:contacts@cantacorda.com
END:VEVENT
BEGIN:VEVENT
DTSTART;VALUE=DATE:20260412
DTEND;VALUE=DATE:20260413
DTSTAMP:20260425T161043
CREATED:20240723T181540Z
LAST-MODIFIED:20240723T181540Z
UID:10014776-1775952000-1776038399@espaceeclosion.fr
SUMMARY:Pour visualiser le calendrier à la semaine ou par mois\, veuillez cliquer sur l'onglet liste à droite de l'écran . Merci
DESCRIPTION:
URL:https://espaceeclosion.fr/event/pour-visualiser-le-calendrier-a-la-semaine-ou-par-mois-veuillez-cliquer-sur-longlet-liste-a-droite-de-lecran-merci/2026-04-12/
LOCATION:Espace Eclosion\, 14 route de Clermont\, LE CENDRE\, 63670\, France
CATEGORIES:Calendrier Général Eclosion
ORGANIZER;CN="Association CANTACORDA":MAILTO:contacts@cantacorda.com
END:VEVENT
BEGIN:VEVENT
DTSTART;VALUE=DATE:20260411
DTEND;VALUE=DATE:20260412
DTSTAMP:20260425T161043
CREATED:20240723T181540Z
LAST-MODIFIED:20240723T181540Z
UID:10014775-1775865600-1775951999@espaceeclosion.fr
SUMMARY:Pour visualiser le calendrier à la semaine ou par mois\, veuillez cliquer sur l'onglet liste à droite de l'écran . Merci
DESCRIPTION:
URL:https://espaceeclosion.fr/event/pour-visualiser-le-calendrier-a-la-semaine-ou-par-mois-veuillez-cliquer-sur-longlet-liste-a-droite-de-lecran-merci/2026-04-11/
LOCATION:Espace Eclosion\, 14 route de Clermont\, LE CENDRE\, 63670\, France
CATEGORIES:Calendrier Général Eclosion
ORGANIZER;CN="Association CANTACORDA":MAILTO:contacts@cantacorda.com
END:VEVENT
BEGIN:VEVENT
DTSTART;VALUE=DATE:20260410
DTEND;VALUE=DATE:20260411
DTSTAMP:20260425T161043
CREATED:20240723T181540Z
LAST-MODIFIED:20240723T181540Z
UID:10014774-1775779200-1775865599@espaceeclosion.fr
SUMMARY:Pour visualiser le calendrier à la semaine ou par mois\, veuillez cliquer sur l'onglet liste à droite de l'écran . Merci
DESCRIPTION:
URL:https://espaceeclosion.fr/event/pour-visualiser-le-calendrier-a-la-semaine-ou-par-mois-veuillez-cliquer-sur-longlet-liste-a-droite-de-lecran-merci/2026-04-10/
LOCATION:Espace Eclosion\, 14 route de Clermont\, LE CENDRE\, 63670\, France
CATEGORIES:Calendrier Général Eclosion
ORGANIZER;CN="Association CANTACORDA":MAILTO:contacts@cantacorda.com
END:VEVENT
BEGIN:VEVENT
DTSTART;VALUE=DATE:20260409
DTEND;VALUE=DATE:20260410
DTSTAMP:20260425T161043
CREATED:20240723T181540Z
LAST-MODIFIED:20240723T181540Z
UID:10014773-1775692800-1775779199@espaceeclosion.fr
SUMMARY:Pour visualiser le calendrier à la semaine ou par mois\, veuillez cliquer sur l'onglet liste à droite de l'écran . Merci
DESCRIPTION:
URL:https://espaceeclosion.fr/event/pour-visualiser-le-calendrier-a-la-semaine-ou-par-mois-veuillez-cliquer-sur-longlet-liste-a-droite-de-lecran-merci/2026-04-09/
LOCATION:Espace Eclosion\, 14 route de Clermont\, LE CENDRE\, 63670\, France
CATEGORIES:Calendrier Général Eclosion
ORGANIZER;CN="Association CANTACORDA":MAILTO:contacts@cantacorda.com
END:VEVENT
BEGIN:VEVENT
DTSTART;VALUE=DATE:20260408
DTEND;VALUE=DATE:20260409
DTSTAMP:20260425T161043
CREATED:20240723T181540Z
LAST-MODIFIED:20240723T181540Z
UID:10014772-1775606400-1775692799@espaceeclosion.fr
SUMMARY:Pour visualiser le calendrier à la semaine ou par mois\, veuillez cliquer sur l'onglet liste à droite de l'écran . Merci
DESCRIPTION:
URL:https://espaceeclosion.fr/event/pour-visualiser-le-calendrier-a-la-semaine-ou-par-mois-veuillez-cliquer-sur-longlet-liste-a-droite-de-lecran-merci/2026-04-08/
LOCATION:Espace Eclosion\, 14 route de Clermont\, LE CENDRE\, 63670\, France
CATEGORIES:Calendrier Général Eclosion
ORGANIZER;CN="Association CANTACORDA":MAILTO:contacts@cantacorda.com
END:VEVENT
BEGIN:VEVENT
DTSTART;VALUE=DATE:20260407
DTEND;VALUE=DATE:20260408
DTSTAMP:20260425T161043
CREATED:20240723T181540Z
LAST-MODIFIED:20240723T181540Z
UID:10014771-1775520000-1775606399@espaceeclosion.fr
SUMMARY:Pour visualiser le calendrier à la semaine ou par mois\, veuillez cliquer sur l'onglet liste à droite de l'écran . Merci
DESCRIPTION:
URL:https://espaceeclosion.fr/event/pour-visualiser-le-calendrier-a-la-semaine-ou-par-mois-veuillez-cliquer-sur-longlet-liste-a-droite-de-lecran-merci/2026-04-07/
LOCATION:Espace Eclosion\, 14 route de Clermont\, LE CENDRE\, 63670\, France
CATEGORIES:Calendrier Général Eclosion
ORGANIZER;CN="Association CANTACORDA":MAILTO:contacts@cantacorda.com
END:VEVENT
BEGIN:VEVENT
DTSTART;VALUE=DATE:20260406
DTEND;VALUE=DATE:20260407
DTSTAMP:20260425T161043
CREATED:20240723T181540Z
LAST-MODIFIED:20240723T181540Z
UID:10014770-1775433600-1775519999@espaceeclosion.fr
SUMMARY:Pour visualiser le calendrier à la semaine ou par mois\, veuillez cliquer sur l'onglet liste à droite de l'écran . Merci
DESCRIPTION:
URL:https://espaceeclosion.fr/event/pour-visualiser-le-calendrier-a-la-semaine-ou-par-mois-veuillez-cliquer-sur-longlet-liste-a-droite-de-lecran-merci/2026-04-06/
LOCATION:Espace Eclosion\, 14 route de Clermont\, LE CENDRE\, 63670\, France
CATEGORIES:Calendrier Général Eclosion
ORGANIZER;CN="Association CANTACORDA":MAILTO:contacts@cantacorda.com
END:VEVENT
BEGIN:VEVENT
DTSTART;VALUE=DATE:20260405
DTEND;VALUE=DATE:20260406
DTSTAMP:20260425T161043
CREATED:20240723T181540Z
LAST-MODIFIED:20240723T181540Z
UID:10014769-1775347200-1775433599@espaceeclosion.fr
SUMMARY:Pour visualiser le calendrier à la semaine ou par mois\, veuillez cliquer sur l'onglet liste à droite de l'écran . Merci
DESCRIPTION:
URL:https://espaceeclosion.fr/event/pour-visualiser-le-calendrier-a-la-semaine-ou-par-mois-veuillez-cliquer-sur-longlet-liste-a-droite-de-lecran-merci/2026-04-05/
LOCATION:Espace Eclosion\, 14 route de Clermont\, LE CENDRE\, 63670\, France
CATEGORIES:Calendrier Général Eclosion
ORGANIZER;CN="Association CANTACORDA":MAILTO:contacts@cantacorda.com
END:VEVENT
BEGIN:VEVENT
DTSTART;VALUE=DATE:20260404
DTEND;VALUE=DATE:20260405
DTSTAMP:20260425T161043
CREATED:20240723T181540Z
LAST-MODIFIED:20240723T181540Z
UID:10014768-1775260800-1775347199@espaceeclosion.fr
SUMMARY:Pour visualiser le calendrier à la semaine ou par mois\, veuillez cliquer sur l'onglet liste à droite de l'écran . Merci
DESCRIPTION:
URL:https://espaceeclosion.fr/event/pour-visualiser-le-calendrier-a-la-semaine-ou-par-mois-veuillez-cliquer-sur-longlet-liste-a-droite-de-lecran-merci/2026-04-04/
LOCATION:Espace Eclosion\, 14 route de Clermont\, LE CENDRE\, 63670\, France
CATEGORIES:Calendrier Général Eclosion
ORGANIZER;CN="Association CANTACORDA":MAILTO:contacts@cantacorda.com
END:VEVENT
BEGIN:VEVENT
DTSTART;VALUE=DATE:20260403
DTEND;VALUE=DATE:20260404
DTSTAMP:20260425T161043
CREATED:20240723T181540Z
LAST-MODIFIED:20240723T181540Z
UID:10014767-1775174400-1775260799@espaceeclosion.fr
SUMMARY:Pour visualiser le calendrier à la semaine ou par mois\, veuillez cliquer sur l'onglet liste à droite de l'écran . Merci
DESCRIPTION:
URL:https://espaceeclosion.fr/event/pour-visualiser-le-calendrier-a-la-semaine-ou-par-mois-veuillez-cliquer-sur-longlet-liste-a-droite-de-lecran-merci/2026-04-03/
LOCATION:Espace Eclosion\, 14 route de Clermont\, LE CENDRE\, 63670\, France
CATEGORIES:Calendrier Général Eclosion
ORGANIZER;CN="Association CANTACORDA":MAILTO:contacts@cantacorda.com
END:VEVENT
BEGIN:VEVENT
DTSTART;VALUE=DATE:20260402
DTEND;VALUE=DATE:20260403
DTSTAMP:20260425T161043
CREATED:20240723T181540Z
LAST-MODIFIED:20240723T181540Z
UID:10014766-1775088000-1775174399@espaceeclosion.fr
SUMMARY:Pour visualiser le calendrier à la semaine ou par mois\, veuillez cliquer sur l'onglet liste à droite de l'écran . Merci
DESCRIPTION:
URL:https://espaceeclosion.fr/event/pour-visualiser-le-calendrier-a-la-semaine-ou-par-mois-veuillez-cliquer-sur-longlet-liste-a-droite-de-lecran-merci/2026-04-02/
LOCATION:Espace Eclosion\, 14 route de Clermont\, LE CENDRE\, 63670\, France
CATEGORIES:Calendrier Général Eclosion
ORGANIZER;CN="Association CANTACORDA":MAILTO:contacts@cantacorda.com
END:VEVENT
BEGIN:VEVENT
DTSTART;VALUE=DATE:20260401
DTEND;VALUE=DATE:20260402
DTSTAMP:20260425T161043
CREATED:20240723T181540Z
LAST-MODIFIED:20240723T181540Z
UID:10014765-1775001600-1775087999@espaceeclosion.fr
SUMMARY:Pour visualiser le calendrier à la semaine ou par mois\, veuillez cliquer sur l'onglet liste à droite de l'écran . Merci
DESCRIPTION:
URL:https://espaceeclosion.fr/event/pour-visualiser-le-calendrier-a-la-semaine-ou-par-mois-veuillez-cliquer-sur-longlet-liste-a-droite-de-lecran-merci/2026-04-01/
LOCATION:Espace Eclosion\, 14 route de Clermont\, LE CENDRE\, 63670\, France
CATEGORIES:Calendrier Général Eclosion
ORGANIZER;CN="Association CANTACORDA":MAILTO:contacts@cantacorda.com
END:VEVENT
BEGIN:VEVENT
DTSTART;VALUE=DATE:20260331
DTEND;VALUE=DATE:20260401
DTSTAMP:20260425T161043
CREATED:20240723T181540Z
LAST-MODIFIED:20240723T181540Z
UID:10014764-1774915200-1775001599@espaceeclosion.fr
SUMMARY:Pour visualiser le calendrier à la semaine ou par mois\, veuillez cliquer sur l'onglet liste à droite de l'écran . Merci
DESCRIPTION:
URL:https://espaceeclosion.fr/event/pour-visualiser-le-calendrier-a-la-semaine-ou-par-mois-veuillez-cliquer-sur-longlet-liste-a-droite-de-lecran-merci/2026-03-31/
LOCATION:Espace Eclosion\, 14 route de Clermont\, LE CENDRE\, 63670\, France
CATEGORIES:Calendrier Général Eclosion
ORGANIZER;CN="Association CANTACORDA":MAILTO:contacts@cantacorda.com
END:VEVENT
BEGIN:VEVENT
DTSTART;VALUE=DATE:20260330
DTEND;VALUE=DATE:20260331
DTSTAMP:20260425T161043
CREATED:20240723T181540Z
LAST-MODIFIED:20240723T181540Z
UID:10014763-1774828800-1774915199@espaceeclosion.fr
SUMMARY:Pour visualiser le calendrier à la semaine ou par mois\, veuillez cliquer sur l'onglet liste à droite de l'écran . Merci
DESCRIPTION:
URL:https://espaceeclosion.fr/event/pour-visualiser-le-calendrier-a-la-semaine-ou-par-mois-veuillez-cliquer-sur-longlet-liste-a-droite-de-lecran-merci/2026-03-30/
LOCATION:Espace Eclosion\, 14 route de Clermont\, LE CENDRE\, 63670\, France
CATEGORIES:Calendrier Général Eclosion
ORGANIZER;CN="Association CANTACORDA":MAILTO:contacts@cantacorda.com
END:VEVENT
BEGIN:VEVENT
DTSTART;VALUE=DATE:20260329
DTEND;VALUE=DATE:20260330
DTSTAMP:20260425T161043
CREATED:20240723T181540Z
LAST-MODIFIED:20240723T181540Z
UID:10014762-1774742400-1774828799@espaceeclosion.fr
SUMMARY:Pour visualiser le calendrier à la semaine ou par mois\, veuillez cliquer sur l'onglet liste à droite de l'écran . Merci
DESCRIPTION:
URL:https://espaceeclosion.fr/event/pour-visualiser-le-calendrier-a-la-semaine-ou-par-mois-veuillez-cliquer-sur-longlet-liste-a-droite-de-lecran-merci/2026-03-29/
LOCATION:Espace Eclosion\, 14 route de Clermont\, LE CENDRE\, 63670\, France
CATEGORIES:Calendrier Général Eclosion
ORGANIZER;CN="Association CANTACORDA":MAILTO:contacts@cantacorda.com
END:VEVENT
BEGIN:VEVENT
DTSTART;VALUE=DATE:20260328
DTEND;VALUE=DATE:20260329
DTSTAMP:20260425T161043
CREATED:20240723T181540Z
LAST-MODIFIED:20240723T181540Z
UID:10014761-1774656000-1774742399@espaceeclosion.fr
SUMMARY:Pour visualiser le calendrier à la semaine ou par mois\, veuillez cliquer sur l'onglet liste à droite de l'écran . Merci
DESCRIPTION:
URL:https://espaceeclosion.fr/event/pour-visualiser-le-calendrier-a-la-semaine-ou-par-mois-veuillez-cliquer-sur-longlet-liste-a-droite-de-lecran-merci/2026-03-28/
LOCATION:Espace Eclosion\, 14 route de Clermont\, LE CENDRE\, 63670\, France
CATEGORIES:Calendrier Général Eclosion
ORGANIZER;CN="Association CANTACORDA":MAILTO:contacts@cantacorda.com
END:VEVENT
BEGIN:VEVENT
DTSTART;VALUE=DATE:20260327
DTEND;VALUE=DATE:20260328
DTSTAMP:20260425T161043
CREATED:20240723T181540Z
LAST-MODIFIED:20240723T181540Z
UID:10014760-1774569600-1774655999@espaceeclosion.fr
SUMMARY:Pour visualiser le calendrier à la semaine ou par mois\, veuillez cliquer sur l'onglet liste à droite de l'écran . Merci
DESCRIPTION:
URL:https://espaceeclosion.fr/event/pour-visualiser-le-calendrier-a-la-semaine-ou-par-mois-veuillez-cliquer-sur-longlet-liste-a-droite-de-lecran-merci/2026-03-27/
LOCATION:Espace Eclosion\, 14 route de Clermont\, LE CENDRE\, 63670\, France
CATEGORIES:Calendrier Général Eclosion
ORGANIZER;CN="Association CANTACORDA":MAILTO:contacts@cantacorda.com
END:VEVENT
BEGIN:VEVENT
DTSTART;VALUE=DATE:20260326
DTEND;VALUE=DATE:20260327
DTSTAMP:20260425T161043
CREATED:20240723T181540Z
LAST-MODIFIED:20240723T181540Z
UID:10014759-1774483200-1774569599@espaceeclosion.fr
SUMMARY:Pour visualiser le calendrier à la semaine ou par mois\, veuillez cliquer sur l'onglet liste à droite de l'écran . Merci
DESCRIPTION:
URL:https://espaceeclosion.fr/event/pour-visualiser-le-calendrier-a-la-semaine-ou-par-mois-veuillez-cliquer-sur-longlet-liste-a-droite-de-lecran-merci/2026-03-26/
LOCATION:Espace Eclosion\, 14 route de Clermont\, LE CENDRE\, 63670\, France
CATEGORIES:Calendrier Général Eclosion
ORGANIZER;CN="Association CANTACORDA":MAILTO:contacts@cantacorda.com
END:VEVENT
END:VCALENDAR