BEGIN:VCALENDAR
VERSION:2.0
PRODID:-//Espace Eclosion - ECPv6.15.20//NONSGML v1.0//EN
CALSCALE:GREGORIAN
METHOD:PUBLISH
X-ORIGINAL-URL:https://espaceeclosion.fr
X-WR-CALDESC:Évènements pour Espace Eclosion
REFRESH-INTERVAL;VALUE=DURATION:PT1H
X-Robots-Tag:noindex
X-PUBLISHED-TTL:PT1H
BEGIN:VTIMEZONE
TZID:Europe/Paris
BEGIN:DAYLIGHT
TZOFFSETFROM:+0100
TZOFFSETTO:+0200
TZNAME:CEST
DTSTART:20220327T010000
END:DAYLIGHT
BEGIN:STANDARD
TZOFFSETFROM:+0200
TZOFFSETTO:+0100
TZNAME:CET
DTSTART:20221030T010000
END:STANDARD
BEGIN:DAYLIGHT
TZOFFSETFROM:+0100
TZOFFSETTO:+0200
TZNAME:CEST
DTSTART:20230326T010000
END:DAYLIGHT
BEGIN:STANDARD
TZOFFSETFROM:+0200
TZOFFSETTO:+0100
TZNAME:CET
DTSTART:20231029T010000
END:STANDARD
BEGIN:DAYLIGHT
TZOFFSETFROM:+0100
TZOFFSETTO:+0200
TZNAME:CEST
DTSTART:20240331T010000
END:DAYLIGHT
BEGIN:STANDARD
TZOFFSETFROM:+0200
TZOFFSETTO:+0100
TZNAME:CET
DTSTART:20241027T010000
END:STANDARD
BEGIN:DAYLIGHT
TZOFFSETFROM:+0100
TZOFFSETTO:+0200
TZNAME:CEST
DTSTART:20250330T010000
END:DAYLIGHT
BEGIN:STANDARD
TZOFFSETFROM:+0200
TZOFFSETTO:+0100
TZNAME:CET
DTSTART:20251026T010000
END:STANDARD
BEGIN:DAYLIGHT
TZOFFSETFROM:+0100
TZOFFSETTO:+0200
TZNAME:CEST
DTSTART:20260329T010000
END:DAYLIGHT
BEGIN:STANDARD
TZOFFSETFROM:+0200
TZOFFSETTO:+0100
TZNAME:CET
DTSTART:20261025T010000
END:STANDARD
BEGIN:DAYLIGHT
TZOFFSETFROM:+0100
TZOFFSETTO:+0200
TZNAME:CEST
DTSTART:20270328T010000
END:DAYLIGHT
BEGIN:STANDARD
TZOFFSETFROM:+0200
TZOFFSETTO:+0100
TZNAME:CET
DTSTART:20271031T010000
END:STANDARD
END:VTIMEZONE
BEGIN:VEVENT
DTSTART;TZID=Europe/Paris:20260412T150000
DTEND;TZID=Europe/Paris:20260412T180000
DTSTAMP:20260425T140020
CREATED:20240723T172440Z
LAST-MODIFIED:20251216T180305Z
UID:10022397-1776006000-1776016800@espaceeclosion.fr
SUMMARY:Un chemin vers la santé du corps et de l'âme
DESCRIPTION:Premier contact\, veuillez appeler : \nMonsieur SURRE Michel \n06 07 54 22 07 \nMerci \n 
URL:https://espaceeclosion.fr/event/un-chemin-vers-la-sante-du-corps-et-de-lame-2-2/2026-04-12/
LOCATION:Espace Eclosion\, 14 route de Clermont\, LE CENDRE\, 63670\, France
CATEGORIES:Calendrier Général Eclosion,Groupe Associatif,Réunions
END:VEVENT
BEGIN:VEVENT
DTSTART;TZID=Europe/Paris:20260315T150000
DTEND;TZID=Europe/Paris:20260315T180000
DTSTAMP:20260425T140020
CREATED:20240723T172440Z
LAST-MODIFIED:20251216T180305Z
UID:10022396-1773586800-1773597600@espaceeclosion.fr
SUMMARY:Un chemin vers la santé du corps et de l'âme
DESCRIPTION:Premier contact\, veuillez appeler : \nMonsieur SURRE Michel \n06 07 54 22 07 \nMerci \n 
URL:https://espaceeclosion.fr/event/un-chemin-vers-la-sante-du-corps-et-de-lame-2-2/2026-03-15/
LOCATION:Espace Eclosion\, 14 route de Clermont\, LE CENDRE\, 63670\, France
CATEGORIES:Calendrier Général Eclosion,Groupe Associatif,Réunions
END:VEVENT
BEGIN:VEVENT
DTSTART;TZID=Europe/Paris:20260222T150000
DTEND;TZID=Europe/Paris:20260222T180000
DTSTAMP:20260425T140020
CREATED:20240723T172440Z
LAST-MODIFIED:20251216T180305Z
UID:10022395-1771772400-1771783200@espaceeclosion.fr
SUMMARY:Un chemin vers la santé du corps et de l'âme
DESCRIPTION:Premier contact\, veuillez appeler : \nMonsieur SURRE Michel \n06 07 54 22 07 \nMerci \n 
URL:https://espaceeclosion.fr/event/un-chemin-vers-la-sante-du-corps-et-de-lame-2-2/2026-02-22/
LOCATION:Espace Eclosion\, 14 route de Clermont\, LE CENDRE\, 63670\, France
CATEGORIES:Calendrier Général Eclosion,Groupe Associatif,Réunions
END:VEVENT
BEGIN:VEVENT
DTSTART;TZID=Europe/Paris:20260201T150000
DTEND;TZID=Europe/Paris:20260201T180000
DTSTAMP:20260425T140020
CREATED:20240723T172440Z
LAST-MODIFIED:20251216T180305Z
UID:10022394-1769958000-1769968800@espaceeclosion.fr
SUMMARY:Un chemin vers la santé du corps et de l'âme
DESCRIPTION:Premier contact\, veuillez appeler : \nMonsieur SURRE Michel \n06 07 54 22 07 \nMerci \n 
URL:https://espaceeclosion.fr/event/un-chemin-vers-la-sante-du-corps-et-de-lame-2-2/2026-02-01/
LOCATION:Espace Eclosion\, 14 route de Clermont\, LE CENDRE\, 63670\, France
CATEGORIES:Calendrier Général Eclosion,Groupe Associatif,Réunions
END:VEVENT
BEGIN:VEVENT
DTSTART;TZID=Europe/Paris:20260111T150000
DTEND;TZID=Europe/Paris:20260111T180000
DTSTAMP:20260425T140020
CREATED:20240723T172440Z
LAST-MODIFIED:20251216T180305Z
UID:10022393-1768143600-1768154400@espaceeclosion.fr
SUMMARY:Un chemin vers la santé du corps et de l'âme
DESCRIPTION:Premier contact\, veuillez appeler : \nMonsieur SURRE Michel \n06 07 54 22 07 \nMerci \n 
URL:https://espaceeclosion.fr/event/un-chemin-vers-la-sante-du-corps-et-de-lame-2-2/2026-01-11/
LOCATION:Espace Eclosion\, 14 route de Clermont\, LE CENDRE\, 63670\, France
CATEGORIES:Calendrier Général Eclosion,Groupe Associatif,Réunions
END:VEVENT
BEGIN:VEVENT
DTSTART;TZID=Europe/Paris:20240811T140000
DTEND;TZID=Europe/Paris:20240811T180000
DTSTAMP:20260425T140020
CREATED:20240723T172440Z
LAST-MODIFIED:20251216T180305Z
UID:10013424-1723384800-1723399200@espaceeclosion.fr
SUMMARY:Un chemin vers la santé du corps et de l'âme
DESCRIPTION:Premier contact\, veuillez appeler : \nMonsieur SURRE Michel \n06 07 54 22 07 \nMerci \n 
URL:https://espaceeclosion.fr/event/un-chemin-vers-la-sante-du-corps-et-de-lame-2-2/2024-08-11/2/
LOCATION:Espace Eclosion\, 14 route de Clermont\, LE CENDRE\, 63670\, France
CATEGORIES:Calendrier Général Eclosion,Groupe Associatif,Réunions
END:VEVENT
BEGIN:VEVENT
DTSTART;TZID=Europe/Paris:20240811T140000
DTEND;TZID=Europe/Paris:20240811T180000
DTSTAMP:20260425T140020
CREATED:20211031T090251Z
LAST-MODIFIED:20240723T172201Z
UID:10013406-1723384800-1723399200@espaceeclosion.fr
SUMMARY:Un chemin vers la santé du corps et de l'âme
DESCRIPTION:Premier contact\, veuillez appeler : \nMonsieur SURRE Michel \n06 07 54 22 07 \nMerci \n 
URL:https://espaceeclosion.fr/event/un-chemin-vers-la-sante-du-corps-et-de-lame/2024-08-11/
LOCATION:Espace Eclosion\, 14 route de Clermont\, LE CENDRE\, 63670\, France
CATEGORIES:Groupe Associatif
END:VEVENT
BEGIN:VEVENT
DTSTART;TZID=Europe/Paris:20240811T080000
DTEND;TZID=Europe/Paris:20240811T170000
DTSTAMP:20260425T140020
CREATED:20240723T172440Z
LAST-MODIFIED:20251216T180305Z
UID:10022392-1723363200-1723395600@espaceeclosion.fr
SUMMARY:Un chemin vers la santé du corps et de l'âme
DESCRIPTION:Premier contact\, veuillez appeler : \nMonsieur SURRE Michel \n06 07 54 22 07 \nMerci \n 
URL:https://espaceeclosion.fr/event/un-chemin-vers-la-sante-du-corps-et-de-lame-2-2/2024-08-11/1/
LOCATION:Espace Eclosion\, 14 route de Clermont\, LE CENDRE\, 63670\, France
CATEGORIES:Calendrier Général Eclosion,Groupe Associatif,Réunions
END:VEVENT
BEGIN:VEVENT
DTSTART;TZID=Europe/Paris:20231119T140000
DTEND;TZID=Europe/Paris:20231119T180000
DTSTAMP:20260425T140020
CREATED:20240723T172412Z
LAST-MODIFIED:20240723T172412Z
UID:10013423-1700402400-1700416800@espaceeclosion.fr
SUMMARY:Un chemin vers la santé du corps et de l'âme
DESCRIPTION:Premier contact\, veuillez appeler : \nMonsieur SURRE Michel \n06 07 54 22 07 \nMerci \n 
URL:https://espaceeclosion.fr/event/un-chemin-vers-la-sante-du-corps-et-de-lame-2/2023-11-19/
LOCATION:Espace Eclosion\, 14 route de Clermont\, LE CENDRE\, 63670\, France
CATEGORIES:Groupe Associatif
END:VEVENT
BEGIN:VEVENT
DTSTART;TZID=Europe/Paris:20231119T140000
DTEND;TZID=Europe/Paris:20231119T180000
DTSTAMP:20260425T140020
CREATED:20211031T090251Z
LAST-MODIFIED:20240723T172201Z
UID:10008160-1700402400-1700416800@espaceeclosion.fr
SUMMARY:Un chemin vers la santé du corps et de l'âme
DESCRIPTION:Premier contact\, veuillez appeler : \nMonsieur SURRE Michel \n06 07 54 22 07 \nMerci \n 
URL:https://espaceeclosion.fr/event/un-chemin-vers-la-sante-du-corps-et-de-lame/2023-11-19/
LOCATION:Espace Eclosion\, 14 route de Clermont\, LE CENDRE\, 63670\, France
CATEGORIES:Groupe Associatif
END:VEVENT
BEGIN:VEVENT
DTSTART;TZID=Europe/Paris:20231029T140000
DTEND;TZID=Europe/Paris:20231029T180000
DTSTAMP:20260425T140020
CREATED:20240723T172412Z
LAST-MODIFIED:20240723T172412Z
UID:10013422-1698588000-1698602400@espaceeclosion.fr
SUMMARY:Un chemin vers la santé du corps et de l'âme
DESCRIPTION:Premier contact\, veuillez appeler : \nMonsieur SURRE Michel \n06 07 54 22 07 \nMerci \n 
URL:https://espaceeclosion.fr/event/un-chemin-vers-la-sante-du-corps-et-de-lame-2/2023-10-29/
LOCATION:Espace Eclosion\, 14 route de Clermont\, LE CENDRE\, 63670\, France
CATEGORIES:Groupe Associatif
END:VEVENT
BEGIN:VEVENT
DTSTART;TZID=Europe/Paris:20231029T140000
DTEND;TZID=Europe/Paris:20231029T180000
DTSTAMP:20260425T140020
CREATED:20211031T090251Z
LAST-MODIFIED:20240723T172201Z
UID:10008159-1698588000-1698602400@espaceeclosion.fr
SUMMARY:Un chemin vers la santé du corps et de l'âme
DESCRIPTION:Premier contact\, veuillez appeler : \nMonsieur SURRE Michel \n06 07 54 22 07 \nMerci \n 
URL:https://espaceeclosion.fr/event/un-chemin-vers-la-sante-du-corps-et-de-lame/2023-10-29/
LOCATION:Espace Eclosion\, 14 route de Clermont\, LE CENDRE\, 63670\, France
CATEGORIES:Groupe Associatif
END:VEVENT
BEGIN:VEVENT
DTSTART;TZID=Europe/Paris:20231008T140000
DTEND;TZID=Europe/Paris:20231008T180000
DTSTAMP:20260425T140020
CREATED:20240723T172412Z
LAST-MODIFIED:20240723T172412Z
UID:10013421-1696773600-1696788000@espaceeclosion.fr
SUMMARY:Un chemin vers la santé du corps et de l'âme
DESCRIPTION:Premier contact\, veuillez appeler : \nMonsieur SURRE Michel \n06 07 54 22 07 \nMerci \n 
URL:https://espaceeclosion.fr/event/un-chemin-vers-la-sante-du-corps-et-de-lame-2/2023-10-08/
LOCATION:Espace Eclosion\, 14 route de Clermont\, LE CENDRE\, 63670\, France
CATEGORIES:Groupe Associatif
END:VEVENT
BEGIN:VEVENT
DTSTART;TZID=Europe/Paris:20231008T140000
DTEND;TZID=Europe/Paris:20231008T180000
DTSTAMP:20260425T140020
CREATED:20211031T090251Z
LAST-MODIFIED:20240723T172201Z
UID:10008158-1696773600-1696788000@espaceeclosion.fr
SUMMARY:Un chemin vers la santé du corps et de l'âme
DESCRIPTION:Premier contact\, veuillez appeler : \nMonsieur SURRE Michel \n06 07 54 22 07 \nMerci \n 
URL:https://espaceeclosion.fr/event/un-chemin-vers-la-sante-du-corps-et-de-lame/2023-10-08/
LOCATION:Espace Eclosion\, 14 route de Clermont\, LE CENDRE\, 63670\, France
CATEGORIES:Groupe Associatif
END:VEVENT
BEGIN:VEVENT
DTSTART;TZID=Europe/Paris:20230827T140000
DTEND;TZID=Europe/Paris:20230827T180000
DTSTAMP:20260425T140020
CREATED:20240723T172412Z
LAST-MODIFIED:20240723T172412Z
UID:10013420-1693144800-1693159200@espaceeclosion.fr
SUMMARY:Un chemin vers la santé du corps et de l'âme
DESCRIPTION:Premier contact\, veuillez appeler : \nMonsieur SURRE Michel \n06 07 54 22 07 \nMerci \n 
URL:https://espaceeclosion.fr/event/un-chemin-vers-la-sante-du-corps-et-de-lame-2/2023-08-27/
LOCATION:Espace Eclosion\, 14 route de Clermont\, LE CENDRE\, 63670\, France
CATEGORIES:Groupe Associatif
END:VEVENT
BEGIN:VEVENT
DTSTART;TZID=Europe/Paris:20230827T140000
DTEND;TZID=Europe/Paris:20230827T180000
DTSTAMP:20260425T140020
CREATED:20211031T090251Z
LAST-MODIFIED:20240723T172201Z
UID:10008156-1693144800-1693159200@espaceeclosion.fr
SUMMARY:Un chemin vers la santé du corps et de l'âme
DESCRIPTION:Premier contact\, veuillez appeler : \nMonsieur SURRE Michel \n06 07 54 22 07 \nMerci \n 
URL:https://espaceeclosion.fr/event/un-chemin-vers-la-sante-du-corps-et-de-lame/2023-08-27/
LOCATION:Espace Eclosion\, 14 route de Clermont\, LE CENDRE\, 63670\, France
CATEGORIES:Groupe Associatif
END:VEVENT
BEGIN:VEVENT
DTSTART;TZID=Europe/Paris:20230806T140000
DTEND;TZID=Europe/Paris:20230806T180000
DTSTAMP:20260425T140020
CREATED:20240723T172412Z
LAST-MODIFIED:20240723T172412Z
UID:10013419-1691330400-1691344800@espaceeclosion.fr
SUMMARY:Un chemin vers la santé du corps et de l'âme
DESCRIPTION:Premier contact\, veuillez appeler : \nMonsieur SURRE Michel \n06 07 54 22 07 \nMerci \n 
URL:https://espaceeclosion.fr/event/un-chemin-vers-la-sante-du-corps-et-de-lame-2/2023-08-06/
LOCATION:Espace Eclosion\, 14 route de Clermont\, LE CENDRE\, 63670\, France
CATEGORIES:Groupe Associatif
END:VEVENT
BEGIN:VEVENT
DTSTART;TZID=Europe/Paris:20230806T140000
DTEND;TZID=Europe/Paris:20230806T180000
DTSTAMP:20260425T140020
CREATED:20211031T090251Z
LAST-MODIFIED:20240723T172201Z
UID:10008155-1691330400-1691344800@espaceeclosion.fr
SUMMARY:Un chemin vers la santé du corps et de l'âme
DESCRIPTION:Premier contact\, veuillez appeler : \nMonsieur SURRE Michel \n06 07 54 22 07 \nMerci \n 
URL:https://espaceeclosion.fr/event/un-chemin-vers-la-sante-du-corps-et-de-lame/2023-08-06/
LOCATION:Espace Eclosion\, 14 route de Clermont\, LE CENDRE\, 63670\, France
CATEGORIES:Groupe Associatif
END:VEVENT
BEGIN:VEVENT
DTSTART;TZID=Europe/Paris:20230716T140000
DTEND;TZID=Europe/Paris:20230716T180000
DTSTAMP:20260425T140020
CREATED:20240723T172412Z
LAST-MODIFIED:20240723T172412Z
UID:10013418-1689516000-1689530400@espaceeclosion.fr
SUMMARY:Un chemin vers la santé du corps et de l'âme
DESCRIPTION:Premier contact\, veuillez appeler : \nMonsieur SURRE Michel \n06 07 54 22 07 \nMerci \n 
URL:https://espaceeclosion.fr/event/un-chemin-vers-la-sante-du-corps-et-de-lame-2/2023-07-16/
LOCATION:Espace Eclosion\, 14 route de Clermont\, LE CENDRE\, 63670\, France
CATEGORIES:Groupe Associatif
END:VEVENT
BEGIN:VEVENT
DTSTART;TZID=Europe/Paris:20230716T140000
DTEND;TZID=Europe/Paris:20230716T180000
DTSTAMP:20260425T140020
CREATED:20211031T090251Z
LAST-MODIFIED:20240723T172201Z
UID:10008154-1689516000-1689530400@espaceeclosion.fr
SUMMARY:Un chemin vers la santé du corps et de l'âme
DESCRIPTION:Premier contact\, veuillez appeler : \nMonsieur SURRE Michel \n06 07 54 22 07 \nMerci \n 
URL:https://espaceeclosion.fr/event/un-chemin-vers-la-sante-du-corps-et-de-lame/2023-07-16/
LOCATION:Espace Eclosion\, 14 route de Clermont\, LE CENDRE\, 63670\, France
CATEGORIES:Groupe Associatif
END:VEVENT
BEGIN:VEVENT
DTSTART;TZID=Europe/Paris:20230625T140000
DTEND;TZID=Europe/Paris:20230625T180000
DTSTAMP:20260425T140020
CREATED:20240723T172412Z
LAST-MODIFIED:20240723T172412Z
UID:10013417-1687701600-1687716000@espaceeclosion.fr
SUMMARY:Un chemin vers la santé du corps et de l'âme
DESCRIPTION:Premier contact\, veuillez appeler : \nMonsieur SURRE Michel \n06 07 54 22 07 \nMerci \n 
URL:https://espaceeclosion.fr/event/un-chemin-vers-la-sante-du-corps-et-de-lame-2/2023-06-25/
LOCATION:Espace Eclosion\, 14 route de Clermont\, LE CENDRE\, 63670\, France
CATEGORIES:Groupe Associatif
END:VEVENT
BEGIN:VEVENT
DTSTART;TZID=Europe/Paris:20230625T140000
DTEND;TZID=Europe/Paris:20230625T180000
DTSTAMP:20260425T140020
CREATED:20211031T090251Z
LAST-MODIFIED:20240723T172201Z
UID:10008153-1687701600-1687716000@espaceeclosion.fr
SUMMARY:Un chemin vers la santé du corps et de l'âme
DESCRIPTION:Premier contact\, veuillez appeler : \nMonsieur SURRE Michel \n06 07 54 22 07 \nMerci \n 
URL:https://espaceeclosion.fr/event/un-chemin-vers-la-sante-du-corps-et-de-lame/2023-06-25/
LOCATION:Espace Eclosion\, 14 route de Clermont\, LE CENDRE\, 63670\, France
CATEGORIES:Groupe Associatif
END:VEVENT
BEGIN:VEVENT
DTSTART;TZID=Europe/Paris:20230604T140000
DTEND;TZID=Europe/Paris:20230604T180000
DTSTAMP:20260425T140020
CREATED:20240723T172412Z
LAST-MODIFIED:20240723T172412Z
UID:10013416-1685887200-1685901600@espaceeclosion.fr
SUMMARY:Un chemin vers la santé du corps et de l'âme
DESCRIPTION:Premier contact\, veuillez appeler : \nMonsieur SURRE Michel \n06 07 54 22 07 \nMerci \n 
URL:https://espaceeclosion.fr/event/un-chemin-vers-la-sante-du-corps-et-de-lame-2/2023-06-04/
LOCATION:Espace Eclosion\, 14 route de Clermont\, LE CENDRE\, 63670\, France
CATEGORIES:Groupe Associatif
END:VEVENT
BEGIN:VEVENT
DTSTART;TZID=Europe/Paris:20230604T140000
DTEND;TZID=Europe/Paris:20230604T180000
DTSTAMP:20260425T140020
CREATED:20211031T090251Z
LAST-MODIFIED:20240723T172201Z
UID:10008152-1685887200-1685901600@espaceeclosion.fr
SUMMARY:Un chemin vers la santé du corps et de l'âme
DESCRIPTION:Premier contact\, veuillez appeler : \nMonsieur SURRE Michel \n06 07 54 22 07 \nMerci \n 
URL:https://espaceeclosion.fr/event/un-chemin-vers-la-sante-du-corps-et-de-lame/2023-06-04/
LOCATION:Espace Eclosion\, 14 route de Clermont\, LE CENDRE\, 63670\, France
CATEGORIES:Groupe Associatif
END:VEVENT
BEGIN:VEVENT
DTSTART;TZID=Europe/Paris:20230514T080000
DTEND;TZID=Europe/Paris:20230514T170000
DTSTAMP:20260425T140020
CREATED:20240723T172412Z
LAST-MODIFIED:20240723T172412Z
UID:10013415-1684051200-1684083600@espaceeclosion.fr
SUMMARY:Un chemin vers la santé du corps et de l'âme
DESCRIPTION:Premier contact\, veuillez appeler : \nMonsieur SURRE Michel \n06 07 54 22 07 \nMerci \n 
URL:https://espaceeclosion.fr/event/un-chemin-vers-la-sante-du-corps-et-de-lame-2/2023-05-14/
LOCATION:Espace Eclosion\, 14 route de Clermont\, LE CENDRE\, 63670\, France
CATEGORIES:Groupe Associatif
END:VEVENT
BEGIN:VEVENT
DTSTART;TZID=Europe/Paris:20230514T080000
DTEND;TZID=Europe/Paris:20230514T170000
DTSTAMP:20260425T140020
CREATED:20211031T090251Z
LAST-MODIFIED:20240723T172201Z
UID:10008151-1684051200-1684083600@espaceeclosion.fr
SUMMARY:Un chemin vers la santé du corps et de l'âme
DESCRIPTION:Premier contact\, veuillez appeler : \nMonsieur SURRE Michel \n06 07 54 22 07 \nMerci \n 
URL:https://espaceeclosion.fr/event/un-chemin-vers-la-sante-du-corps-et-de-lame/2023-05-14/
LOCATION:Espace Eclosion\, 14 route de Clermont\, LE CENDRE\, 63670\, France
CATEGORIES:Groupe Associatif
END:VEVENT
BEGIN:VEVENT
DTSTART;TZID=Europe/Paris:20230402T140000
DTEND;TZID=Europe/Paris:20230402T180000
DTSTAMP:20260425T140020
CREATED:20240723T172412Z
LAST-MODIFIED:20240723T172412Z
UID:10013414-1680444000-1680458400@espaceeclosion.fr
SUMMARY:Un chemin vers la santé du corps et de l'âme
DESCRIPTION:Premier contact\, veuillez appeler : \nMonsieur SURRE Michel \n06 07 54 22 07 \nMerci \n 
URL:https://espaceeclosion.fr/event/un-chemin-vers-la-sante-du-corps-et-de-lame-2/2023-04-02/
LOCATION:Espace Eclosion\, 14 route de Clermont\, LE CENDRE\, 63670\, France
CATEGORIES:Groupe Associatif
END:VEVENT
BEGIN:VEVENT
DTSTART;TZID=Europe/Paris:20230402T140000
DTEND;TZID=Europe/Paris:20230402T180000
DTSTAMP:20260425T140020
CREATED:20211031T090251Z
LAST-MODIFIED:20240723T172201Z
UID:10008150-1680444000-1680458400@espaceeclosion.fr
SUMMARY:Un chemin vers la santé du corps et de l'âme
DESCRIPTION:Premier contact\, veuillez appeler : \nMonsieur SURRE Michel \n06 07 54 22 07 \nMerci \n 
URL:https://espaceeclosion.fr/event/un-chemin-vers-la-sante-du-corps-et-de-lame/2023-04-02/
LOCATION:Espace Eclosion\, 14 route de Clermont\, LE CENDRE\, 63670\, France
CATEGORIES:Groupe Associatif
END:VEVENT
BEGIN:VEVENT
DTSTART;TZID=Europe/Paris:20230312T140000
DTEND;TZID=Europe/Paris:20230312T180000
DTSTAMP:20260425T140020
CREATED:20240723T172412Z
LAST-MODIFIED:20240723T172412Z
UID:10013413-1678629600-1678644000@espaceeclosion.fr
SUMMARY:Un chemin vers la santé du corps et de l'âme
DESCRIPTION:Premier contact\, veuillez appeler : \nMonsieur SURRE Michel \n06 07 54 22 07 \nMerci \n 
URL:https://espaceeclosion.fr/event/un-chemin-vers-la-sante-du-corps-et-de-lame-2/2023-03-12/
LOCATION:Espace Eclosion\, 14 route de Clermont\, LE CENDRE\, 63670\, France
CATEGORIES:Groupe Associatif
END:VEVENT
BEGIN:VEVENT
DTSTART;TZID=Europe/Paris:20230312T140000
DTEND;TZID=Europe/Paris:20230312T180000
DTSTAMP:20260425T140020
CREATED:20211031T090251Z
LAST-MODIFIED:20240723T172201Z
UID:10008149-1678629600-1678644000@espaceeclosion.fr
SUMMARY:Un chemin vers la santé du corps et de l'âme
DESCRIPTION:Premier contact\, veuillez appeler : \nMonsieur SURRE Michel \n06 07 54 22 07 \nMerci \n 
URL:https://espaceeclosion.fr/event/un-chemin-vers-la-sante-du-corps-et-de-lame/2023-03-12/
LOCATION:Espace Eclosion\, 14 route de Clermont\, LE CENDRE\, 63670\, France
CATEGORIES:Groupe Associatif
END:VEVENT
END:VCALENDAR