BEGIN:VCALENDAR
VERSION:2.0
PRODID:-//Espace Eclosion - ECPv6.15.20//NONSGML v1.0//EN
CALSCALE:GREGORIAN
METHOD:PUBLISH
X-WR-CALNAME:Espace Eclosion
X-ORIGINAL-URL:https://espaceeclosion.fr
X-WR-CALDESC:Évènements pour Espace Eclosion
REFRESH-INTERVAL;VALUE=DURATION:PT1H
X-Robots-Tag:noindex
X-PUBLISHED-TTL:PT1H
BEGIN:VTIMEZONE
TZID:Europe/Paris
BEGIN:DAYLIGHT
TZOFFSETFROM:+0100
TZOFFSETTO:+0200
TZNAME:CEST
DTSTART:20250330T010000
END:DAYLIGHT
BEGIN:STANDARD
TZOFFSETFROM:+0200
TZOFFSETTO:+0100
TZNAME:CET
DTSTART:20251026T010000
END:STANDARD
BEGIN:DAYLIGHT
TZOFFSETFROM:+0100
TZOFFSETTO:+0200
TZNAME:CEST
DTSTART:20260329T010000
END:DAYLIGHT
BEGIN:STANDARD
TZOFFSETFROM:+0200
TZOFFSETTO:+0100
TZNAME:CET
DTSTART:20261025T010000
END:STANDARD
BEGIN:DAYLIGHT
TZOFFSETFROM:+0100
TZOFFSETTO:+0200
TZNAME:CEST
DTSTART:20270328T010000
END:DAYLIGHT
BEGIN:STANDARD
TZOFFSETFROM:+0200
TZOFFSETTO:+0100
TZNAME:CET
DTSTART:20271031T010000
END:STANDARD
END:VTIMEZONE
BEGIN:VEVENT
DTSTART;TZID=Europe/Paris:20260421T103000
DTEND;TZID=Europe/Paris:20260421T113000
DTSTAMP:20260424T160054
CREATED:20260118T184855Z
LAST-MODIFIED:20260118T185105Z
UID:10021873-1776767400-1776771000@espaceeclosion.fr
SUMMARY:Qi Gong avec Romuald C.
DESCRIPTION:Pratiqué le plus souvent aujourd’hui pour ses bienfaits pour la santé et le bien-être qu’il procure\, le Tai Chi Chuan est à l’origine un art martial chinois\, dit « interne » (en opposition aux art martiaux externes comme le karaté ou le kung fu).\nIl consiste en l’exécution de mouvements lents\, souples et ronds qui constitue la forme composée de 3 parties successives nommées La Terre\, L’Homme et Le Ciel.\nA l’image du Tai Chi Chuan qui se pratique lentement\, l’apprentissage se veut lent\, progressif et respectueux du rythme de chacun.\n\nLes bienfaits du Tai Chi Chuan sont nombreux : faciliter le lâcher-prise via la proprioception\, diminuer les tensions musculaires\, favoriser l’équilibre\, obtenir un renforcement musculaire profond\, travailler la souplesse et permettre la fluidité des mouvements et la coordination.\n\nLes séances débutent par un échauffement respiratoire\, articulaire via des exercices taoïstes\, des Ji Ben Gong (exercices de base) différents Qi Gong (statiques\, dynamiques) puis vient l’apprentissage et la pratique de l’enchaînement de la forme. La séance se termine par des étirements\, relaxation\, retour au calme.\n\nDiplômé d’un master en Psychologie\, je pratique les arts martiaux depuis plus de 20 ans. Je suis animateur sportif professionnel titulaire d’un diplôme d’état (Certificat Qualification Professionnel en Animation Gymnique d’Entretien et d’Expression) spécialisé en gymnastique douce\,  Tai Chi Chuan et Qi Gong. Je pratique et j’enseigne la forme de YANG Cheng-Fu orientée sur les aspects d’amélioration et d’entretien de la santé\, ainsi que le ancien style originel YANG Lu-Chan\, une forme plus athlétique et martiale contenant des Fajin\, mouvements explosifs\, libératoire du Qi et manifestant une intention martiale.\nCertifié instructeur en 2019 par Eli Montaigue de la World Taiji Boxing Association (WTBA)\, je suis les enseignements du système Montaigue et continue de me former.\nJe donne des cours dans de nombreuses structures (associations\, Ehpad\, espace bien-être\, entreprises) sur le Puy de-Dôme ainsi que des cours privés.\n\nCours de 10H30 à 11H30 et de 11H30 à 12H30\nRomuald Clermont\n06 89 60 35 13\nromuald.clermont@wanadoo.fr
URL:https://espaceeclosion.fr/event/qi-gong-avec-romuald-c-2/2026-04-21/
LOCATION:Espace Eclosion\, 14 route de Clermont\, LE CENDRE\, 63670\, France
CATEGORIES:Calendrier Général Eclosion,Les Cours,Nouveautés,Qi Gong,Qi Gong avec Romuald Clermont
ORGANIZER;CN="Romuald CLERMONT":MAILTO:romuald.clermont@wanadoo.fr
END:VEVENT
BEGIN:VEVENT
DTSTART;TZID=Europe/Paris:20260423T181500
DTEND;TZID=Europe/Paris:20260423T193000
DTSTAMP:20260424T160054
CREATED:20250722T160720Z
LAST-MODIFIED:20250722T163102Z
UID:10017983-1776968100-1776972600@espaceeclosion.fr
SUMMARY:Qi Gong avec Claire Doan
DESCRIPTION:Le Qi Gong est une pratique tellement vaste qu’il serait difficile de la décrire en quelques mots! La tradition chinoise considère que tout est mouvement : la respiration est mouvement\, les pensées et les émotions sont des mouvements\, de même que l’éclosion d’une fleur ou l’envol d’un oiseau. La bonne santé physique et émotionnelle repose sur le libre mouvement de l’énergie dans le corps..Le qi gong\, par des mouvements fluides\, des visualisations\, des mudras et par le développement de la conscience corporelle  permet de retrouver un équilibre physique et émotionnel.  Les pratiquants sortent des cours plus détendus\, dorment mieux\, sont plus en forme et constatent une réduction de leurs douleurs ou problèmes chroniques. Le qi gong permet aussi une meilleure connaissance de soi. La pratique développe l’intuition et la sagesse.\nC’est une pratique ouverte et accessible  à toutes et tous. Je propose un travail profond tout en apportant de la légèreté et de la joie dans les cours. Un travail sérieux sans se prendre au sérieux 🙂\n J’enseigne depuis presque 10 ans et suis à même d’adapter les mouvement aux besoins de chacun. Je suis par ailleurs praticienne en énergétique chinoise.\nAu plaisir de vous rencontrer !\n\nClaire\n0699011427
URL:https://espaceeclosion.fr/event/qi-gong-avec-claire-doan/2026-04-23/
LOCATION:Espace Eclosion\, 14 route de Clermont\, LE CENDRE\, 63670\, France
CATEGORIES:Calendrier Général Eclosion,Les Ateliers,Nouveautés,Qi Gong,Qi Gong avec Claire Doan
ORGANIZER;CN="Claire Doan":MAILTO:clairedoan.qigong@gmail.com
END:VEVENT
END:VCALENDAR