BEGIN:VCALENDAR
VERSION:2.0
PRODID:-//Espace Eclosion - ECPv6.15.20//NONSGML v1.0//EN
CALSCALE:GREGORIAN
METHOD:PUBLISH
X-WR-CALNAME:Espace Eclosion
X-ORIGINAL-URL:https://espaceeclosion.fr
X-WR-CALDESC:Évènements pour Espace Eclosion
REFRESH-INTERVAL;VALUE=DURATION:PT1H
X-Robots-Tag:noindex
X-PUBLISHED-TTL:PT1H
BEGIN:VTIMEZONE
TZID:Europe/Paris
BEGIN:DAYLIGHT
TZOFFSETFROM:+0100
TZOFFSETTO:+0200
TZNAME:CEST
DTSTART:20220327T010000
END:DAYLIGHT
BEGIN:STANDARD
TZOFFSETFROM:+0200
TZOFFSETTO:+0100
TZNAME:CET
DTSTART:20221030T010000
END:STANDARD
BEGIN:DAYLIGHT
TZOFFSETFROM:+0100
TZOFFSETTO:+0200
TZNAME:CEST
DTSTART:20230326T010000
END:DAYLIGHT
BEGIN:STANDARD
TZOFFSETFROM:+0200
TZOFFSETTO:+0100
TZNAME:CET
DTSTART:20231029T010000
END:STANDARD
BEGIN:DAYLIGHT
TZOFFSETFROM:+0100
TZOFFSETTO:+0200
TZNAME:CEST
DTSTART:20240331T010000
END:DAYLIGHT
BEGIN:STANDARD
TZOFFSETFROM:+0200
TZOFFSETTO:+0100
TZNAME:CET
DTSTART:20241027T010000
END:STANDARD
BEGIN:DAYLIGHT
TZOFFSETFROM:+0100
TZOFFSETTO:+0200
TZNAME:CEST
DTSTART:20250330T010000
END:DAYLIGHT
BEGIN:STANDARD
TZOFFSETFROM:+0200
TZOFFSETTO:+0100
TZNAME:CET
DTSTART:20251026T010000
END:STANDARD
BEGIN:DAYLIGHT
TZOFFSETFROM:+0100
TZOFFSETTO:+0200
TZNAME:CEST
DTSTART:20260329T010000
END:DAYLIGHT
BEGIN:STANDARD
TZOFFSETFROM:+0200
TZOFFSETTO:+0100
TZNAME:CET
DTSTART:20261025T010000
END:STANDARD
BEGIN:DAYLIGHT
TZOFFSETFROM:+0100
TZOFFSETTO:+0200
TZNAME:CEST
DTSTART:20270328T010000
END:DAYLIGHT
BEGIN:STANDARD
TZOFFSETFROM:+0200
TZOFFSETTO:+0100
TZNAME:CET
DTSTART:20271031T010000
END:STANDARD
END:VTIMEZONE
BEGIN:VEVENT
DTSTART;TZID=Europe/Paris:20260212T160000
DTEND;TZID=Europe/Paris:20260212T163500
DTSTAMP:20260424T171907
CREATED:20260206T125429Z
LAST-MODIFIED:20260209T172945Z
UID:10024345-1770912000-1770914100@espaceeclosion.fr
SUMMARY:Spectacle de Marionnettes Rouge Cœur à 11h et 16h
DESCRIPTION:affiche rouge Coeur A4
URL:https://espaceeclosion.fr/event/spectacle-de-marionnettes/2026-02-12/2/
LOCATION:Espace Eclosion\, 14 route de Clermont\, LE CENDRE\, 63670\, France
CATEGORIES:Les Spectacles
END:VEVENT
BEGIN:VEVENT
DTSTART;TZID=Europe/Paris:20260212T110000
DTEND;TZID=Europe/Paris:20260212T113500
DTSTAMP:20260424T171907
CREATED:20260206T125429Z
LAST-MODIFIED:20260209T172945Z
UID:10024344-1770894000-1770896100@espaceeclosion.fr
SUMMARY:Spectacle de Marionnettes Rouge Cœur à 11h et 16h
DESCRIPTION:affiche rouge Coeur A4
URL:https://espaceeclosion.fr/event/spectacle-de-marionnettes/2026-02-12/1/
LOCATION:Espace Eclosion\, 14 route de Clermont\, LE CENDRE\, 63670\, France
CATEGORIES:Les Spectacles
END:VEVENT
BEGIN:VEVENT
DTSTART;TZID=Europe/Paris:20230610T191500
DTEND;TZID=Europe/Paris:20230610T211500
DTSTAMP:20260424T171907
CREATED:20230527T065828Z
LAST-MODIFIED:20230527T070324Z
UID:10008445-1686424500-1686431700@espaceeclosion.fr
SUMMARY:Brigitte ROVETO  "Vous embarque pour le meilleur et pour le rire"
DESCRIPTION:Réservez en prenant la photo du QRcode \n  \n 
URL:https://espaceeclosion.fr/event/brigitte-roveto-vous-embarque-pour-le-meilleur-et-pour-le-rire/
LOCATION:Espace Eclosion\, 14 route de Clermont\, LE CENDRE\, 63670\, France
CATEGORIES:Les Spectacles
ORGANIZER;CN="Florence ROUBLIQUE":MAILTO:contact@florenceyogamassage.com
END:VEVENT
END:VCALENDAR