BEGIN:VCALENDAR
VERSION:2.0
PRODID:-//Espace Eclosion - ECPv6.15.20//NONSGML v1.0//EN
CALSCALE:GREGORIAN
METHOD:PUBLISH
X-WR-CALNAME:Espace Eclosion
X-ORIGINAL-URL:https://espaceeclosion.fr
X-WR-CALDESC:Évènements pour Espace Eclosion
REFRESH-INTERVAL;VALUE=DURATION:PT1H
X-Robots-Tag:noindex
X-PUBLISHED-TTL:PT1H
BEGIN:VTIMEZONE
TZID:Europe/Paris
BEGIN:DAYLIGHT
TZOFFSETFROM:+0100
TZOFFSETTO:+0200
TZNAME:CEST
DTSTART:20190331T010000
END:DAYLIGHT
BEGIN:STANDARD
TZOFFSETFROM:+0200
TZOFFSETTO:+0100
TZNAME:CET
DTSTART:20191027T010000
END:STANDARD
BEGIN:DAYLIGHT
TZOFFSETFROM:+0100
TZOFFSETTO:+0200
TZNAME:CEST
DTSTART:20200329T010000
END:DAYLIGHT
BEGIN:STANDARD
TZOFFSETFROM:+0200
TZOFFSETTO:+0100
TZNAME:CET
DTSTART:20201025T010000
END:STANDARD
BEGIN:DAYLIGHT
TZOFFSETFROM:+0100
TZOFFSETTO:+0200
TZNAME:CEST
DTSTART:20210328T010000
END:DAYLIGHT
BEGIN:STANDARD
TZOFFSETFROM:+0200
TZOFFSETTO:+0100
TZNAME:CET
DTSTART:20211031T010000
END:STANDARD
BEGIN:DAYLIGHT
TZOFFSETFROM:+0100
TZOFFSETTO:+0200
TZNAME:CEST
DTSTART:20220327T010000
END:DAYLIGHT
BEGIN:STANDARD
TZOFFSETFROM:+0200
TZOFFSETTO:+0100
TZNAME:CET
DTSTART:20221030T010000
END:STANDARD
BEGIN:DAYLIGHT
TZOFFSETFROM:+0100
TZOFFSETTO:+0200
TZNAME:CEST
DTSTART:20230326T010000
END:DAYLIGHT
BEGIN:STANDARD
TZOFFSETFROM:+0200
TZOFFSETTO:+0100
TZNAME:CET
DTSTART:20231029T010000
END:STANDARD
BEGIN:DAYLIGHT
TZOFFSETFROM:+0100
TZOFFSETTO:+0200
TZNAME:CEST
DTSTART:20240331T010000
END:DAYLIGHT
BEGIN:STANDARD
TZOFFSETFROM:+0200
TZOFFSETTO:+0100
TZNAME:CET
DTSTART:20241027T010000
END:STANDARD
END:VTIMEZONE
BEGIN:VEVENT
DTSTART;TZID=Europe/Paris:20231022T173000
DTEND;TZID=Europe/Paris:20231022T190000
DTSTAMP:20260424T114428
CREATED:20231005T065907Z
LAST-MODIFIED:20231007T184108Z
UID:10010719-1697995800-1698001200@espaceeclosion.fr
SUMMARY:Lecture-Présentation Textes Poétiques de Gaël Jean Claude Gérard
DESCRIPTION:Dimanche 22/10/2023 \nFLYER recto verso 3 10 2023
URL:https://espaceeclosion.fr/event/lecture-presentation-textes-poetiques-de-gael-jean-claude-gerard/
LOCATION:Espace Eclosion\, 14 route de Clermont\, LE CENDRE\, 63670\, France
CATEGORIES:Évènementielles,Nouveautés,Poésies et Musiques
ORGANIZER;CN="Association CANTACORDA":MAILTO:contacts@cantacorda.com
END:VEVENT
BEGIN:VEVENT
DTSTART;TZID=Europe/Paris:20220618T133000
DTEND;TZID=Europe/Paris:20220618T173000
DTSTAMP:20260424T114428
CREATED:20220525T131536Z
LAST-MODIFIED:20220602T180145Z
UID:10006930-1655559000-1655573400@espaceeclosion.fr
SUMMARY:Portes Ouvertes à l'Espace Eclosion
DESCRIPTION:portes ouvertes 31-05-2022
URL:https://espaceeclosion.fr/event/portes-ouvertes-a-lespace-eclosion/
LOCATION:Espace Eclosion\, 14 route de Clermont\, LE CENDRE\, 63670\, France
CATEGORIES:Évènementielles
ORGANIZER;CN="Association CANTACORDA":MAILTO:contacts@cantacorda.com
END:VEVENT
BEGIN:VEVENT
DTSTART;TZID=Europe/Paris:20201129T090000
DTEND;TZID=Europe/Paris:20201129T130000
DTSTAMP:20260424T114428
CREATED:20201023T091813Z
LAST-MODIFIED:20201103T151920Z
UID:10006596-1606640400-1606654800@espaceeclosion.fr
SUMMARY:RENCONTRE : « Quelle mission pour ma vie ? »
DESCRIPTION:Information Importante conférence reportée à une date ultérieure suite au confinement\n\nUN GRAND WEEK -END UNIQUE A VIVRE INTENSEMENT\n\nSamedi : « Les étapes de la vie par septaines » \nDe 7 ans en 7 ans\, la vie se renouvelle et pourtant continue. L’être humain à chaque étape apprend\, grandit et se transforme pour réaliser la mission de sa vie. Chaque étape est un élément de cette construction qui débouche sur la maturité\, la sagesse et l’accomplissement de soi. \nA chacune de ces tranches de vie correspondent des leçons à apprendre\, à travers un mode d’emploi très pratique pour parcourir au mieux et plus facilement chacune des étapes. \nDimanche : « Quel sens à ma vie aujourd’hui ? » \nOn peut donner de nombreux sens à sa vie\, que l’on peut classer sur une échelle allant du plus matérialiste (ou même pas de sens) au plus spirituel\, sans confondre avec une échelle des valeurs. Cependant\, suivant la situation et l’étape dans laquelle nous nous trouvons\, il est essentiel de se poser cette question dont dépend notre équilibre mental et physique\, notre bonheur et le sentiment de se réaliser jour après jour. \nAvec Coline d’Aubret\, constellatrice\, professionnelle de la relation d’aide. \n  \nColine d’Aubret saura vous emmener dans une réflexion sur le sens de votre existence aujourd’hui grâce à des apports issus de l’Enseignement d’Idris Lahore\, des pratiques en sous-groupes\, des exercices favorisant l‘intégration en douceur d’une nouvelle façon d’aborder sa vie\, de prendre soin de soi et de ce qui existe de plus grand en chacun.
URL:https://espaceeclosion.fr/event/rencontre-quelle-mission-pour-ma-vie/2020-11-29/
LOCATION:Espace Eclosion\, 14 route de Clermont\, LE CENDRE\, 63670\, France
CATEGORIES:Évènementielles
ATTACH;FMTTYPE=image/png:https://espaceeclosion.fr/wp-content/uploads/2020/10/coline-d_aubret_01.jpg.png
ORGANIZER;CN="Catherine Pfalzgraf":MAILTO:cheminsdeuphonie@laposte.net
END:VEVENT
BEGIN:VEVENT
DTSTART;TZID=Europe/Paris:20201128T143000
DTEND;TZID=Europe/Paris:20201128T190000
DTSTAMP:20260424T114428
CREATED:20201023T091813Z
LAST-MODIFIED:20201103T151920Z
UID:10006595-1606573800-1606590000@espaceeclosion.fr
SUMMARY:RENCONTRE : « Quelle mission pour ma vie ? »
DESCRIPTION:Information Importante conférence reportée à une date ultérieure suite au confinement\n\nUN GRAND WEEK -END UNIQUE A VIVRE INTENSEMENT\n\nSamedi : « Les étapes de la vie par septaines » \nDe 7 ans en 7 ans\, la vie se renouvelle et pourtant continue. L’être humain à chaque étape apprend\, grandit et se transforme pour réaliser la mission de sa vie. Chaque étape est un élément de cette construction qui débouche sur la maturité\, la sagesse et l’accomplissement de soi. \nA chacune de ces tranches de vie correspondent des leçons à apprendre\, à travers un mode d’emploi très pratique pour parcourir au mieux et plus facilement chacune des étapes. \nDimanche : « Quel sens à ma vie aujourd’hui ? » \nOn peut donner de nombreux sens à sa vie\, que l’on peut classer sur une échelle allant du plus matérialiste (ou même pas de sens) au plus spirituel\, sans confondre avec une échelle des valeurs. Cependant\, suivant la situation et l’étape dans laquelle nous nous trouvons\, il est essentiel de se poser cette question dont dépend notre équilibre mental et physique\, notre bonheur et le sentiment de se réaliser jour après jour. \nAvec Coline d’Aubret\, constellatrice\, professionnelle de la relation d’aide. \n  \nColine d’Aubret saura vous emmener dans une réflexion sur le sens de votre existence aujourd’hui grâce à des apports issus de l’Enseignement d’Idris Lahore\, des pratiques en sous-groupes\, des exercices favorisant l‘intégration en douceur d’une nouvelle façon d’aborder sa vie\, de prendre soin de soi et de ce qui existe de plus grand en chacun.
URL:https://espaceeclosion.fr/event/rencontre-quelle-mission-pour-ma-vie/2020-11-28/
LOCATION:Espace Eclosion\, 14 route de Clermont\, LE CENDRE\, 63670\, France
CATEGORIES:Évènementielles
ATTACH;FMTTYPE=image/png:https://espaceeclosion.fr/wp-content/uploads/2020/10/coline-d_aubret_01.jpg.png
ORGANIZER;CN="Catherine Pfalzgraf":MAILTO:cheminsdeuphonie@laposte.net
END:VEVENT
BEGIN:VEVENT
DTSTART;TZID=Europe/Paris:20201128T090000
DTEND;TZID=Europe/Paris:20201128T130000
DTSTAMP:20260424T114428
CREATED:20201023T090734Z
LAST-MODIFIED:20201103T152010Z
UID:10006594-1606554000-1606568400@espaceeclosion.fr
SUMMARY:Matinée de résolution de problèmes avec les constellations familiales et systémiques selon Idris Lahore.
DESCRIPTION:Information Importante conférence reportée à une date ultérieure suite au confinement \nDes constellations personnelles pour traiter des problématiques de 4 personnes. \nDes apports théoriques et des exercices pour tous sur le thème « Le sens de la vie ». \nChacun repartira enrichi et expérimentera le rôle de représentant. Constellations personnelles 100 euros\, pour les autres participants 20 euros (10 euros si participation à la rencontre) \nAvec Coline d’Aubret\, constellatrice\, professionnelle de la relation d’aide. \nColine d’Aubret saura vous emmener dans une réflexion sur le sens de votre existence aujourd’hui grâce à des apports issus de l’Enseignement d’Idris Lahore\, des pratiques en sousgroupes\, des exercices favorisant l‘intégration en douceur d’une nouvelle façon d’aborder sa vie\, de prendre soin de soi\net de ce qui existe de plus grand en chacun. \n  \n 
URL:https://espaceeclosion.fr/event/matinee-de-resolution-de-problemes-avec-les-constellations-familiales-et-systemiques-selon-idris-lahore/
LOCATION:Espace Eclosion\, 14 route de Clermont\, LE CENDRE\, 63670\, France
CATEGORIES:Évènementielles
ATTACH;FMTTYPE=image/png:https://espaceeclosion.fr/wp-content/uploads/2020/10/coline-d_aubret_01.jpg.png
ORGANIZER;CN="Catherine Pfalzgraf":MAILTO:cheminsdeuphonie@laposte.net
END:VEVENT
END:VCALENDAR