BEGIN:VCALENDAR
VERSION:2.0
PRODID:-//Espace Eclosion - ECPv6.15.20//NONSGML v1.0//EN
CALSCALE:GREGORIAN
METHOD:PUBLISH
X-ORIGINAL-URL:https://espaceeclosion.fr
X-WR-CALDESC:Évènements pour Espace Eclosion
REFRESH-INTERVAL;VALUE=DURATION:PT1H
X-Robots-Tag:noindex
X-PUBLISHED-TTL:PT1H
BEGIN:VTIMEZONE
TZID:Europe/Paris
BEGIN:DAYLIGHT
TZOFFSETFROM:+0100
TZOFFSETTO:+0200
TZNAME:CEST
DTSTART:20260329T010000
END:DAYLIGHT
BEGIN:STANDARD
TZOFFSETFROM:+0200
TZOFFSETTO:+0100
TZNAME:CET
DTSTART:20261025T010000
END:STANDARD
BEGIN:DAYLIGHT
TZOFFSETFROM:+0100
TZOFFSETTO:+0200
TZNAME:CEST
DTSTART:20270328T010000
END:DAYLIGHT
BEGIN:STANDARD
TZOFFSETFROM:+0200
TZOFFSETTO:+0100
TZNAME:CET
DTSTART:20271031T010000
END:STANDARD
BEGIN:DAYLIGHT
TZOFFSETFROM:+0100
TZOFFSETTO:+0200
TZNAME:CEST
DTSTART:20280326T010000
END:DAYLIGHT
BEGIN:STANDARD
TZOFFSETFROM:+0200
TZOFFSETTO:+0100
TZNAME:CET
DTSTART:20281029T010000
END:STANDARD
END:VTIMEZONE
BEGIN:VEVENT
DTSTART;TZID=Europe/Paris:20270413T201500
DTEND;TZID=Europe/Paris:20270413T214500
DTSTAMP:20260426T000829
CREATED:20250722T073227Z
LAST-MODIFIED:20250722T073927Z
UID:10017767-1807647300-1807652700@espaceeclosion.fr
SUMMARY:Line Dance avec Nadia
DESCRIPTION:Nadia 06 66 55 01 99
URL:https://espaceeclosion.fr/event/line-dance-avec-nadia/2027-04-13/
LOCATION:Espace Eclosion\, 14 route de Clermont\, LE CENDRE\, 63670\, France
CATEGORIES:Calendrier Général Eclosion,Danse,Line Dance avec Nadia,Nouveautés
ORGANIZER;CN="Association Cournon Danse Attitude":MAILTO:contact@cournondanseattitude.fr
END:VEVENT
BEGIN:VEVENT
DTSTART;TZID=Europe/Paris:20270420T201500
DTEND;TZID=Europe/Paris:20270420T214500
DTSTAMP:20260426T000829
CREATED:20250722T073227Z
LAST-MODIFIED:20250722T073927Z
UID:10017768-1808252100-1808257500@espaceeclosion.fr
SUMMARY:Line Dance avec Nadia
DESCRIPTION:Nadia 06 66 55 01 99
URL:https://espaceeclosion.fr/event/line-dance-avec-nadia/2027-04-20/
LOCATION:Espace Eclosion\, 14 route de Clermont\, LE CENDRE\, 63670\, France
CATEGORIES:Calendrier Général Eclosion,Danse,Line Dance avec Nadia,Nouveautés
ORGANIZER;CN="Association Cournon Danse Attitude":MAILTO:contact@cournondanseattitude.fr
END:VEVENT
BEGIN:VEVENT
DTSTART;TZID=Europe/Paris:20270427T201500
DTEND;TZID=Europe/Paris:20270427T214500
DTSTAMP:20260426T000829
CREATED:20250722T073227Z
LAST-MODIFIED:20250722T073927Z
UID:10017769-1808856900-1808862300@espaceeclosion.fr
SUMMARY:Line Dance avec Nadia
DESCRIPTION:Nadia 06 66 55 01 99
URL:https://espaceeclosion.fr/event/line-dance-avec-nadia/2027-04-27/
LOCATION:Espace Eclosion\, 14 route de Clermont\, LE CENDRE\, 63670\, France
CATEGORIES:Calendrier Général Eclosion,Danse,Line Dance avec Nadia,Nouveautés
ORGANIZER;CN="Association Cournon Danse Attitude":MAILTO:contact@cournondanseattitude.fr
END:VEVENT
BEGIN:VEVENT
DTSTART;TZID=Europe/Paris:20270504T201500
DTEND;TZID=Europe/Paris:20270504T214500
DTSTAMP:20260426T000829
CREATED:20250722T073227Z
LAST-MODIFIED:20250722T073927Z
UID:10017770-1809461700-1809467100@espaceeclosion.fr
SUMMARY:Line Dance avec Nadia
DESCRIPTION:Nadia 06 66 55 01 99
URL:https://espaceeclosion.fr/event/line-dance-avec-nadia/2027-05-04/
LOCATION:Espace Eclosion\, 14 route de Clermont\, LE CENDRE\, 63670\, France
CATEGORIES:Calendrier Général Eclosion,Danse,Line Dance avec Nadia,Nouveautés
ORGANIZER;CN="Association Cournon Danse Attitude":MAILTO:contact@cournondanseattitude.fr
END:VEVENT
BEGIN:VEVENT
DTSTART;TZID=Europe/Paris:20270511T201500
DTEND;TZID=Europe/Paris:20270511T214500
DTSTAMP:20260426T000829
CREATED:20250722T073227Z
LAST-MODIFIED:20250722T073927Z
UID:10017771-1810066500-1810071900@espaceeclosion.fr
SUMMARY:Line Dance avec Nadia
DESCRIPTION:Nadia 06 66 55 01 99
URL:https://espaceeclosion.fr/event/line-dance-avec-nadia/2027-05-11/
LOCATION:Espace Eclosion\, 14 route de Clermont\, LE CENDRE\, 63670\, France
CATEGORIES:Calendrier Général Eclosion,Danse,Line Dance avec Nadia,Nouveautés
ORGANIZER;CN="Association Cournon Danse Attitude":MAILTO:contact@cournondanseattitude.fr
END:VEVENT
BEGIN:VEVENT
DTSTART;TZID=Europe/Paris:20270518T201500
DTEND;TZID=Europe/Paris:20270518T214500
DTSTAMP:20260426T000829
CREATED:20250722T073227Z
LAST-MODIFIED:20250722T073927Z
UID:10017772-1810671300-1810676700@espaceeclosion.fr
SUMMARY:Line Dance avec Nadia
DESCRIPTION:Nadia 06 66 55 01 99
URL:https://espaceeclosion.fr/event/line-dance-avec-nadia/2027-05-18/
LOCATION:Espace Eclosion\, 14 route de Clermont\, LE CENDRE\, 63670\, France
CATEGORIES:Calendrier Général Eclosion,Danse,Line Dance avec Nadia,Nouveautés
ORGANIZER;CN="Association Cournon Danse Attitude":MAILTO:contact@cournondanseattitude.fr
END:VEVENT
BEGIN:VEVENT
DTSTART;TZID=Europe/Paris:20270525T201500
DTEND;TZID=Europe/Paris:20270525T214500
DTSTAMP:20260426T000829
CREATED:20250722T073227Z
LAST-MODIFIED:20250722T073927Z
UID:10017773-1811276100-1811281500@espaceeclosion.fr
SUMMARY:Line Dance avec Nadia
DESCRIPTION:Nadia 06 66 55 01 99
URL:https://espaceeclosion.fr/event/line-dance-avec-nadia/2027-05-25/
LOCATION:Espace Eclosion\, 14 route de Clermont\, LE CENDRE\, 63670\, France
CATEGORIES:Calendrier Général Eclosion,Danse,Line Dance avec Nadia,Nouveautés
ORGANIZER;CN="Association Cournon Danse Attitude":MAILTO:contact@cournondanseattitude.fr
END:VEVENT
BEGIN:VEVENT
DTSTART;TZID=Europe/Paris:20270601T201500
DTEND;TZID=Europe/Paris:20270601T214500
DTSTAMP:20260426T000829
CREATED:20250722T073227Z
LAST-MODIFIED:20250722T073927Z
UID:10017774-1811880900-1811886300@espaceeclosion.fr
SUMMARY:Line Dance avec Nadia
DESCRIPTION:Nadia 06 66 55 01 99
URL:https://espaceeclosion.fr/event/line-dance-avec-nadia/2027-06-01/
LOCATION:Espace Eclosion\, 14 route de Clermont\, LE CENDRE\, 63670\, France
CATEGORIES:Calendrier Général Eclosion,Danse,Line Dance avec Nadia,Nouveautés
ORGANIZER;CN="Association Cournon Danse Attitude":MAILTO:contact@cournondanseattitude.fr
END:VEVENT
BEGIN:VEVENT
DTSTART;TZID=Europe/Paris:20270608T201500
DTEND;TZID=Europe/Paris:20270608T214500
DTSTAMP:20260426T000829
CREATED:20250722T073227Z
LAST-MODIFIED:20250722T073927Z
UID:10017775-1812485700-1812491100@espaceeclosion.fr
SUMMARY:Line Dance avec Nadia
DESCRIPTION:Nadia 06 66 55 01 99
URL:https://espaceeclosion.fr/event/line-dance-avec-nadia/2027-06-08/
LOCATION:Espace Eclosion\, 14 route de Clermont\, LE CENDRE\, 63670\, France
CATEGORIES:Calendrier Général Eclosion,Danse,Line Dance avec Nadia,Nouveautés
ORGANIZER;CN="Association Cournon Danse Attitude":MAILTO:contact@cournondanseattitude.fr
END:VEVENT
BEGIN:VEVENT
DTSTART;TZID=Europe/Paris:20270615T201500
DTEND;TZID=Europe/Paris:20270615T214500
DTSTAMP:20260426T000829
CREATED:20250722T073227Z
LAST-MODIFIED:20250722T073927Z
UID:10017776-1813090500-1813095900@espaceeclosion.fr
SUMMARY:Line Dance avec Nadia
DESCRIPTION:Nadia 06 66 55 01 99
URL:https://espaceeclosion.fr/event/line-dance-avec-nadia/2027-06-15/
LOCATION:Espace Eclosion\, 14 route de Clermont\, LE CENDRE\, 63670\, France
CATEGORIES:Calendrier Général Eclosion,Danse,Line Dance avec Nadia,Nouveautés
ORGANIZER;CN="Association Cournon Danse Attitude":MAILTO:contact@cournondanseattitude.fr
END:VEVENT
BEGIN:VEVENT
DTSTART;TZID=Europe/Paris:20270622T201500
DTEND;TZID=Europe/Paris:20270622T214500
DTSTAMP:20260426T000829
CREATED:20250722T073227Z
LAST-MODIFIED:20250722T073927Z
UID:10017777-1813695300-1813700700@espaceeclosion.fr
SUMMARY:Line Dance avec Nadia
DESCRIPTION:Nadia 06 66 55 01 99
URL:https://espaceeclosion.fr/event/line-dance-avec-nadia/2027-06-22/
LOCATION:Espace Eclosion\, 14 route de Clermont\, LE CENDRE\, 63670\, France
CATEGORIES:Calendrier Général Eclosion,Danse,Line Dance avec Nadia,Nouveautés
ORGANIZER;CN="Association Cournon Danse Attitude":MAILTO:contact@cournondanseattitude.fr
END:VEVENT
BEGIN:VEVENT
DTSTART;TZID=Europe/Paris:20270629T201500
DTEND;TZID=Europe/Paris:20270629T214500
DTSTAMP:20260426T000829
CREATED:20250722T073227Z
LAST-MODIFIED:20250722T073927Z
UID:10017778-1814300100-1814305500@espaceeclosion.fr
SUMMARY:Line Dance avec Nadia
DESCRIPTION:Nadia 06 66 55 01 99
URL:https://espaceeclosion.fr/event/line-dance-avec-nadia/2027-06-29/
LOCATION:Espace Eclosion\, 14 route de Clermont\, LE CENDRE\, 63670\, France
CATEGORIES:Calendrier Général Eclosion,Danse,Line Dance avec Nadia,Nouveautés
ORGANIZER;CN="Association Cournon Danse Attitude":MAILTO:contact@cournondanseattitude.fr
END:VEVENT
BEGIN:VEVENT
DTSTART;TZID=Europe/Paris:20270706T201500
DTEND;TZID=Europe/Paris:20270706T214500
DTSTAMP:20260426T000829
CREATED:20250722T073227Z
LAST-MODIFIED:20250722T073927Z
UID:10017779-1814904900-1814910300@espaceeclosion.fr
SUMMARY:Line Dance avec Nadia
DESCRIPTION:Nadia 06 66 55 01 99
URL:https://espaceeclosion.fr/event/line-dance-avec-nadia/2027-07-06/
LOCATION:Espace Eclosion\, 14 route de Clermont\, LE CENDRE\, 63670\, France
CATEGORIES:Calendrier Général Eclosion,Danse,Line Dance avec Nadia,Nouveautés
ORGANIZER;CN="Association Cournon Danse Attitude":MAILTO:contact@cournondanseattitude.fr
END:VEVENT
BEGIN:VEVENT
DTSTART;TZID=Europe/Paris:20270713T201500
DTEND;TZID=Europe/Paris:20270713T214500
DTSTAMP:20260426T000829
CREATED:20250722T073227Z
LAST-MODIFIED:20250722T073927Z
UID:10017780-1815509700-1815515100@espaceeclosion.fr
SUMMARY:Line Dance avec Nadia
DESCRIPTION:Nadia 06 66 55 01 99
URL:https://espaceeclosion.fr/event/line-dance-avec-nadia/2027-07-13/
LOCATION:Espace Eclosion\, 14 route de Clermont\, LE CENDRE\, 63670\, France
CATEGORIES:Calendrier Général Eclosion,Danse,Line Dance avec Nadia,Nouveautés
ORGANIZER;CN="Association Cournon Danse Attitude":MAILTO:contact@cournondanseattitude.fr
END:VEVENT
BEGIN:VEVENT
DTSTART;TZID=Europe/Paris:20270720T201500
DTEND;TZID=Europe/Paris:20270720T214500
DTSTAMP:20260426T000829
CREATED:20250722T073227Z
LAST-MODIFIED:20250722T073927Z
UID:10017781-1816114500-1816119900@espaceeclosion.fr
SUMMARY:Line Dance avec Nadia
DESCRIPTION:Nadia 06 66 55 01 99
URL:https://espaceeclosion.fr/event/line-dance-avec-nadia/2027-07-20/
LOCATION:Espace Eclosion\, 14 route de Clermont\, LE CENDRE\, 63670\, France
CATEGORIES:Calendrier Général Eclosion,Danse,Line Dance avec Nadia,Nouveautés
ORGANIZER;CN="Association Cournon Danse Attitude":MAILTO:contact@cournondanseattitude.fr
END:VEVENT
BEGIN:VEVENT
DTSTART;TZID=Europe/Paris:20270727T201500
DTEND;TZID=Europe/Paris:20270727T214500
DTSTAMP:20260426T000829
CREATED:20250722T073227Z
LAST-MODIFIED:20250722T073927Z
UID:10017782-1816719300-1816724700@espaceeclosion.fr
SUMMARY:Line Dance avec Nadia
DESCRIPTION:Nadia 06 66 55 01 99
URL:https://espaceeclosion.fr/event/line-dance-avec-nadia/2027-07-27/
LOCATION:Espace Eclosion\, 14 route de Clermont\, LE CENDRE\, 63670\, France
CATEGORIES:Calendrier Général Eclosion,Danse,Line Dance avec Nadia,Nouveautés
ORGANIZER;CN="Association Cournon Danse Attitude":MAILTO:contact@cournondanseattitude.fr
END:VEVENT
BEGIN:VEVENT
DTSTART;TZID=Europe/Paris:20270803T201500
DTEND;TZID=Europe/Paris:20270803T214500
DTSTAMP:20260426T000829
CREATED:20250722T073227Z
LAST-MODIFIED:20250722T073927Z
UID:10017783-1817324100-1817329500@espaceeclosion.fr
SUMMARY:Line Dance avec Nadia
DESCRIPTION:Nadia 06 66 55 01 99
URL:https://espaceeclosion.fr/event/line-dance-avec-nadia/2027-08-03/
LOCATION:Espace Eclosion\, 14 route de Clermont\, LE CENDRE\, 63670\, France
CATEGORIES:Calendrier Général Eclosion,Danse,Line Dance avec Nadia,Nouveautés
ORGANIZER;CN="Association Cournon Danse Attitude":MAILTO:contact@cournondanseattitude.fr
END:VEVENT
BEGIN:VEVENT
DTSTART;TZID=Europe/Paris:20270810T201500
DTEND;TZID=Europe/Paris:20270810T214500
DTSTAMP:20260426T000829
CREATED:20250722T073227Z
LAST-MODIFIED:20250722T073927Z
UID:10017784-1817928900-1817934300@espaceeclosion.fr
SUMMARY:Line Dance avec Nadia
DESCRIPTION:Nadia 06 66 55 01 99
URL:https://espaceeclosion.fr/event/line-dance-avec-nadia/2027-08-10/
LOCATION:Espace Eclosion\, 14 route de Clermont\, LE CENDRE\, 63670\, France
CATEGORIES:Calendrier Général Eclosion,Danse,Line Dance avec Nadia,Nouveautés
ORGANIZER;CN="Association Cournon Danse Attitude":MAILTO:contact@cournondanseattitude.fr
END:VEVENT
BEGIN:VEVENT
DTSTART;TZID=Europe/Paris:20270817T201500
DTEND;TZID=Europe/Paris:20270817T214500
DTSTAMP:20260426T000829
CREATED:20250722T073227Z
LAST-MODIFIED:20250722T073927Z
UID:10017785-1818533700-1818539100@espaceeclosion.fr
SUMMARY:Line Dance avec Nadia
DESCRIPTION:Nadia 06 66 55 01 99
URL:https://espaceeclosion.fr/event/line-dance-avec-nadia/2027-08-17/
LOCATION:Espace Eclosion\, 14 route de Clermont\, LE CENDRE\, 63670\, France
CATEGORIES:Calendrier Général Eclosion,Danse,Line Dance avec Nadia,Nouveautés
ORGANIZER;CN="Association Cournon Danse Attitude":MAILTO:contact@cournondanseattitude.fr
END:VEVENT
BEGIN:VEVENT
DTSTART;TZID=Europe/Paris:20270824T201500
DTEND;TZID=Europe/Paris:20270824T214500
DTSTAMP:20260426T000829
CREATED:20250722T073227Z
LAST-MODIFIED:20250722T073927Z
UID:10017786-1819138500-1819143900@espaceeclosion.fr
SUMMARY:Line Dance avec Nadia
DESCRIPTION:Nadia 06 66 55 01 99
URL:https://espaceeclosion.fr/event/line-dance-avec-nadia/2027-08-24/
LOCATION:Espace Eclosion\, 14 route de Clermont\, LE CENDRE\, 63670\, France
CATEGORIES:Calendrier Général Eclosion,Danse,Line Dance avec Nadia,Nouveautés
ORGANIZER;CN="Association Cournon Danse Attitude":MAILTO:contact@cournondanseattitude.fr
END:VEVENT
BEGIN:VEVENT
DTSTART;TZID=Europe/Paris:20270831T201500
DTEND;TZID=Europe/Paris:20270831T214500
DTSTAMP:20260426T000829
CREATED:20250722T073227Z
LAST-MODIFIED:20250722T073927Z
UID:10017787-1819743300-1819748700@espaceeclosion.fr
SUMMARY:Line Dance avec Nadia
DESCRIPTION:Nadia 06 66 55 01 99
URL:https://espaceeclosion.fr/event/line-dance-avec-nadia/2027-08-31/
LOCATION:Espace Eclosion\, 14 route de Clermont\, LE CENDRE\, 63670\, France
CATEGORIES:Calendrier Général Eclosion,Danse,Line Dance avec Nadia,Nouveautés
ORGANIZER;CN="Association Cournon Danse Attitude":MAILTO:contact@cournondanseattitude.fr
END:VEVENT
BEGIN:VEVENT
DTSTART;TZID=Europe/Paris:20270907T201500
DTEND;TZID=Europe/Paris:20270907T214500
DTSTAMP:20260426T000829
CREATED:20250722T073227Z
LAST-MODIFIED:20250722T073927Z
UID:10017788-1820348100-1820353500@espaceeclosion.fr
SUMMARY:Line Dance avec Nadia
DESCRIPTION:Nadia 06 66 55 01 99
URL:https://espaceeclosion.fr/event/line-dance-avec-nadia/2027-09-07/
LOCATION:Espace Eclosion\, 14 route de Clermont\, LE CENDRE\, 63670\, France
CATEGORIES:Calendrier Général Eclosion,Danse,Line Dance avec Nadia,Nouveautés
ORGANIZER;CN="Association Cournon Danse Attitude":MAILTO:contact@cournondanseattitude.fr
END:VEVENT
BEGIN:VEVENT
DTSTART;TZID=Europe/Paris:20270914T201500
DTEND;TZID=Europe/Paris:20270914T214500
DTSTAMP:20260426T000829
CREATED:20250722T073227Z
LAST-MODIFIED:20250722T073927Z
UID:10017789-1820952900-1820958300@espaceeclosion.fr
SUMMARY:Line Dance avec Nadia
DESCRIPTION:Nadia 06 66 55 01 99
URL:https://espaceeclosion.fr/event/line-dance-avec-nadia/2027-09-14/
LOCATION:Espace Eclosion\, 14 route de Clermont\, LE CENDRE\, 63670\, France
CATEGORIES:Calendrier Général Eclosion,Danse,Line Dance avec Nadia,Nouveautés
ORGANIZER;CN="Association Cournon Danse Attitude":MAILTO:contact@cournondanseattitude.fr
END:VEVENT
BEGIN:VEVENT
DTSTART;TZID=Europe/Paris:20270921T201500
DTEND;TZID=Europe/Paris:20270921T214500
DTSTAMP:20260426T000829
CREATED:20250722T073227Z
LAST-MODIFIED:20250722T073927Z
UID:10017790-1821557700-1821563100@espaceeclosion.fr
SUMMARY:Line Dance avec Nadia
DESCRIPTION:Nadia 06 66 55 01 99
URL:https://espaceeclosion.fr/event/line-dance-avec-nadia/2027-09-21/
LOCATION:Espace Eclosion\, 14 route de Clermont\, LE CENDRE\, 63670\, France
CATEGORIES:Calendrier Général Eclosion,Danse,Line Dance avec Nadia,Nouveautés
ORGANIZER;CN="Association Cournon Danse Attitude":MAILTO:contact@cournondanseattitude.fr
END:VEVENT
BEGIN:VEVENT
DTSTART;TZID=Europe/Paris:20270928T201500
DTEND;TZID=Europe/Paris:20270928T214500
DTSTAMP:20260426T000829
CREATED:20250722T073227Z
LAST-MODIFIED:20250722T073927Z
UID:10017791-1822162500-1822167900@espaceeclosion.fr
SUMMARY:Line Dance avec Nadia
DESCRIPTION:Nadia 06 66 55 01 99
URL:https://espaceeclosion.fr/event/line-dance-avec-nadia/2027-09-28/
LOCATION:Espace Eclosion\, 14 route de Clermont\, LE CENDRE\, 63670\, France
CATEGORIES:Calendrier Général Eclosion,Danse,Line Dance avec Nadia,Nouveautés
ORGANIZER;CN="Association Cournon Danse Attitude":MAILTO:contact@cournondanseattitude.fr
END:VEVENT
BEGIN:VEVENT
DTSTART;TZID=Europe/Paris:20271005T201500
DTEND;TZID=Europe/Paris:20271005T214500
DTSTAMP:20260426T000829
CREATED:20250722T073227Z
LAST-MODIFIED:20250722T073927Z
UID:10017792-1822767300-1822772700@espaceeclosion.fr
SUMMARY:Line Dance avec Nadia
DESCRIPTION:Nadia 06 66 55 01 99
URL:https://espaceeclosion.fr/event/line-dance-avec-nadia/2027-10-05/
LOCATION:Espace Eclosion\, 14 route de Clermont\, LE CENDRE\, 63670\, France
CATEGORIES:Calendrier Général Eclosion,Danse,Line Dance avec Nadia,Nouveautés
ORGANIZER;CN="Association Cournon Danse Attitude":MAILTO:contact@cournondanseattitude.fr
END:VEVENT
BEGIN:VEVENT
DTSTART;TZID=Europe/Paris:20271012T201500
DTEND;TZID=Europe/Paris:20271012T214500
DTSTAMP:20260426T000829
CREATED:20250722T073227Z
LAST-MODIFIED:20250722T073927Z
UID:10017793-1823372100-1823377500@espaceeclosion.fr
SUMMARY:Line Dance avec Nadia
DESCRIPTION:Nadia 06 66 55 01 99
URL:https://espaceeclosion.fr/event/line-dance-avec-nadia/2027-10-12/
LOCATION:Espace Eclosion\, 14 route de Clermont\, LE CENDRE\, 63670\, France
CATEGORIES:Calendrier Général Eclosion,Danse,Line Dance avec Nadia,Nouveautés
ORGANIZER;CN="Association Cournon Danse Attitude":MAILTO:contact@cournondanseattitude.fr
END:VEVENT
BEGIN:VEVENT
DTSTART;TZID=Europe/Paris:20271019T201500
DTEND;TZID=Europe/Paris:20271019T214500
DTSTAMP:20260426T000829
CREATED:20250722T073227Z
LAST-MODIFIED:20250722T073927Z
UID:10017794-1823976900-1823982300@espaceeclosion.fr
SUMMARY:Line Dance avec Nadia
DESCRIPTION:Nadia 06 66 55 01 99
URL:https://espaceeclosion.fr/event/line-dance-avec-nadia/2027-10-19/
LOCATION:Espace Eclosion\, 14 route de Clermont\, LE CENDRE\, 63670\, France
CATEGORIES:Calendrier Général Eclosion,Danse,Line Dance avec Nadia,Nouveautés
ORGANIZER;CN="Association Cournon Danse Attitude":MAILTO:contact@cournondanseattitude.fr
END:VEVENT
BEGIN:VEVENT
DTSTART;TZID=Europe/Paris:20271026T201500
DTEND;TZID=Europe/Paris:20271026T214500
DTSTAMP:20260426T000829
CREATED:20250722T073227Z
LAST-MODIFIED:20250722T073927Z
UID:10017795-1824581700-1824587100@espaceeclosion.fr
SUMMARY:Line Dance avec Nadia
DESCRIPTION:Nadia 06 66 55 01 99
URL:https://espaceeclosion.fr/event/line-dance-avec-nadia/2027-10-26/
LOCATION:Espace Eclosion\, 14 route de Clermont\, LE CENDRE\, 63670\, France
CATEGORIES:Calendrier Général Eclosion,Danse,Line Dance avec Nadia,Nouveautés
ORGANIZER;CN="Association Cournon Danse Attitude":MAILTO:contact@cournondanseattitude.fr
END:VEVENT
BEGIN:VEVENT
DTSTART;TZID=Europe/Paris:20271102T201500
DTEND;TZID=Europe/Paris:20271102T214500
DTSTAMP:20260426T000829
CREATED:20250722T073227Z
LAST-MODIFIED:20250722T073927Z
UID:10017796-1825186500-1825191900@espaceeclosion.fr
SUMMARY:Line Dance avec Nadia
DESCRIPTION:Nadia 06 66 55 01 99
URL:https://espaceeclosion.fr/event/line-dance-avec-nadia/2027-11-02/
LOCATION:Espace Eclosion\, 14 route de Clermont\, LE CENDRE\, 63670\, France
CATEGORIES:Calendrier Général Eclosion,Danse,Line Dance avec Nadia,Nouveautés
ORGANIZER;CN="Association Cournon Danse Attitude":MAILTO:contact@cournondanseattitude.fr
END:VEVENT
END:VCALENDAR