BEGIN:VCALENDAR
VERSION:2.0
PRODID:-//Espace Eclosion - ECPv6.15.20//NONSGML v1.0//EN
CALSCALE:GREGORIAN
METHOD:PUBLISH
X-WR-CALNAME:Espace Eclosion
X-ORIGINAL-URL:https://espaceeclosion.fr
X-WR-CALDESC:Évènements pour Espace Eclosion
REFRESH-INTERVAL;VALUE=DURATION:PT1H
X-Robots-Tag:noindex
X-PUBLISHED-TTL:PT1H
BEGIN:VTIMEZONE
TZID:Europe/Paris
BEGIN:DAYLIGHT
TZOFFSETFROM:+0100
TZOFFSETTO:+0200
TZNAME:CEST
DTSTART:20190331T010000
END:DAYLIGHT
BEGIN:STANDARD
TZOFFSETFROM:+0200
TZOFFSETTO:+0100
TZNAME:CET
DTSTART:20191027T010000
END:STANDARD
BEGIN:DAYLIGHT
TZOFFSETFROM:+0100
TZOFFSETTO:+0200
TZNAME:CEST
DTSTART:20200329T010000
END:DAYLIGHT
BEGIN:STANDARD
TZOFFSETFROM:+0200
TZOFFSETTO:+0100
TZNAME:CET
DTSTART:20201025T010000
END:STANDARD
BEGIN:DAYLIGHT
TZOFFSETFROM:+0100
TZOFFSETTO:+0200
TZNAME:CEST
DTSTART:20210328T010000
END:DAYLIGHT
BEGIN:STANDARD
TZOFFSETFROM:+0200
TZOFFSETTO:+0100
TZNAME:CET
DTSTART:20211031T010000
END:STANDARD
BEGIN:DAYLIGHT
TZOFFSETFROM:+0100
TZOFFSETTO:+0200
TZNAME:CEST
DTSTART:20220327T010000
END:DAYLIGHT
BEGIN:STANDARD
TZOFFSETFROM:+0200
TZOFFSETTO:+0100
TZNAME:CET
DTSTART:20221030T010000
END:STANDARD
BEGIN:DAYLIGHT
TZOFFSETFROM:+0100
TZOFFSETTO:+0200
TZNAME:CEST
DTSTART:20230326T010000
END:DAYLIGHT
BEGIN:STANDARD
TZOFFSETFROM:+0200
TZOFFSETTO:+0100
TZNAME:CET
DTSTART:20231029T010000
END:STANDARD
BEGIN:DAYLIGHT
TZOFFSETFROM:+0100
TZOFFSETTO:+0200
TZNAME:CEST
DTSTART:20240331T010000
END:DAYLIGHT
BEGIN:STANDARD
TZOFFSETFROM:+0200
TZOFFSETTO:+0100
TZNAME:CET
DTSTART:20241027T010000
END:STANDARD
BEGIN:DAYLIGHT
TZOFFSETFROM:+0100
TZOFFSETTO:+0200
TZNAME:CEST
DTSTART:20250330T010000
END:DAYLIGHT
BEGIN:STANDARD
TZOFFSETFROM:+0200
TZOFFSETTO:+0100
TZNAME:CET
DTSTART:20251026T010000
END:STANDARD
BEGIN:DAYLIGHT
TZOFFSETFROM:+0100
TZOFFSETTO:+0200
TZNAME:CEST
DTSTART:20260329T010000
END:DAYLIGHT
BEGIN:STANDARD
TZOFFSETFROM:+0200
TZOFFSETTO:+0100
TZNAME:CET
DTSTART:20261025T010000
END:STANDARD
BEGIN:DAYLIGHT
TZOFFSETFROM:+0100
TZOFFSETTO:+0200
TZNAME:CEST
DTSTART:20270328T010000
END:DAYLIGHT
BEGIN:STANDARD
TZOFFSETFROM:+0200
TZOFFSETTO:+0100
TZNAME:CET
DTSTART:20271031T010000
END:STANDARD
END:VTIMEZONE
BEGIN:VEVENT
DTSTART;TZID=Europe/Paris:20260418T153000
DTEND;TZID=Europe/Paris:20260418T181500
DTSTAMP:20260424T171910
CREATED:20260413T182408Z
LAST-MODIFIED:20260413T182408Z
UID:10024364-1776526200-1776536100@espaceeclosion.fr
SUMMARY:Conférence sur la médiumnité avec Marie Cohendy
DESCRIPTION:Évènement de Marie Cohendy\n\n\n\n\n\n\n\n\n\n\n\n\n14 route de clermont 63670 le cendre\n\n\n\n\n\n\n\n\n\n\n\n\nDurée : 2 h 45 min\n\n\n\n\n\n\n\n\n\n\n\nPublic  · Tout le monde sur ou en dehors de Facebook\n\n\n\n\n\n\n\nMédium de naissance et de métier\, voyante\,magnétiseuse\, lithothérapeute\,je vous propose une nouvelle conférence sur les différents types de médiumnité\, les communications défunts.Pour et par qui ?comment ?Pourquoi en faire et selon quelles règles de Respect et de Bienveillance.Notions Spirituelles sur l’ Au Delà et les Êtres de Lumière.Pause de 15 mnSuivi de contacts défunts humains et animaux : amenet une photo de votre aimé envolé ( 1 par famille )Les Réservations sont Obligatoires avant le 15 avril.– les places sont limitées.Pour vous inscrire merci de prendre contact par message via mon site et me transmettre vos coordonnées complètes.https://medium-marie-cohendy.frou par mail :contact@medium-marie-cohendy.frsms : Marie au 06.50.90.93.14Participation : 20 E sur place.\nAUCUNE PLACE LE JOUR MÊME SANS RESA.Merci de votre Compréhension.Marie et Ses Guides de Lumière \n\n\nPercevoir\, entrer en contact avec Ses Guides\, comment s’ adresser aux Êtres chers défunts\, Êtres de Lumière\, autant de questions parfois déroutantes tant le sujet est vaste et complexe.Au travers de mon Parcours de Medium et de mon métier\, je vous guuderai pour une approche décomplexée et détaillée de ce qui concerne le Monde de l’ INVISIBLE.Paranormal\, communication défunts\, écriture automatique.vécu expériences et partages suivi de contacts défunts sur photo.humains et animaux\nPour vous inscrire : merci de réserver via mon site de préférence avant le 16 avril.https://medium-marie-cohendy.frTarif de 20E payable sur place.\nA très bientôt \nVoir moins\n\n\n\nLe Cendre\, Auvergne\, France
URL:https://espaceeclosion.fr/event/conference-sur-la-mediumnite-avec-marie-cohendy/
LOCATION:Espace Eclosion\, 14 route de Clermont\, LE CENDRE\, 63670\, France
CATEGORIES:Calendrier Eclosion,Les Conférences
ORGANIZER;CN="SASU Medium Marie Cohendy":MAILTO:contact@medium-marie-cohendy.fr
END:VEVENT
BEGIN:VEVENT
DTSTART;TZID=Europe/Paris:20221028T203000
DTEND;TZID=Europe/Paris:20221028T220000
DTSTAMP:20260424T171910
CREATED:20221013T054753Z
LAST-MODIFIED:20221013T054753Z
UID:10007702-1666989000-1666994400@espaceeclosion.fr
SUMMARY:Conférence "Ces Femmes "Choisies""
DESCRIPTION:
URL:https://espaceeclosion.fr/event/conference-ces-femmes-choisies/
LOCATION:Espace Eclosion\, 14 route de Clermont\, LE CENDRE\, 63670\, France
CATEGORIES:Les Conférences
ATTACH;FMTTYPE=image/jpeg:https://espaceeclosion.fr/wp-content/uploads/2022/10/Conference-ces-femmes-22choisies22.jpg
ORGANIZER;CN="V%C3%A9ronique Schlewer":MAILTO:veroniqueshamballa@gmail.com
END:VEVENT
BEGIN:VEVENT
DTSTART;TZID=Europe/Paris:20220618T180000
DTEND;TZID=Europe/Paris:20220618T200000
DTSTAMP:20260424T171910
CREATED:20200912T110530Z
LAST-MODIFIED:20220525T132519Z
UID:10006592-1655575200-1655582400@espaceeclosion.fr
SUMMARY:Conférence Hélène GONINET « L’enfantement\, entre puissance\, violence et jouissance\, une dimension méconnue de la sexualité féminine»
DESCRIPTION:conférence helène 18-06-2022
URL:https://espaceeclosion.fr/event/lenfantement-entre-puissance-violence-et-jouissance-une-dimension-meconnue-de-la-sexualite-feminine-conference-helene-goninet/
LOCATION:Espace Eclosion\, 14 route de Clermont\, LE CENDRE\, 63670\, France
CATEGORIES:Les Conférences
ATTACH;FMTTYPE=image/jpeg:https://espaceeclosion.fr/wp-content/uploads/2020/09/unnamed-6.jpg
ORGANIZER;CN="Association CANTACORDA":MAILTO:contacts@cantacorda.com
END:VEVENT
BEGIN:VEVENT
DTSTART;TZID=Europe/Paris:20220523T180000
DTEND;TZID=Europe/Paris:20220523T203000
DTSTAMP:20260424T171910
CREATED:20220505T045805Z
LAST-MODIFIED:20220506T043346Z
UID:10006928-1653328800-1653337800@espaceeclosion.fr
SUMMARY:Conférence "Le pouvoir infini de l’eau sous toutes ses formes" avec Olivier Neveu
DESCRIPTION:Entrée gratuite réservation souhaitée 0612987317
URL:https://espaceeclosion.fr/event/conference-le-pouvoir-infini-de-leau-avec-olivier-neveu/
LOCATION:Espace Eclosion\, 14 route de Clermont\, LE CENDRE\, 63670\, France
CATEGORIES:Les Conférences
ATTACH;FMTTYPE=image/jpeg:https://espaceeclosion.fr/wp-content/uploads/2022/05/52DF555C-EF3E-47B1-929E-CD6B6AB4CA15.jpeg
ORGANIZER;CN="Association CANTACORDA":MAILTO:contacts@cantacorda.com
END:VEVENT
BEGIN:VEVENT
DTSTART;TZID=Europe/Paris:20220514T180000
DTEND;TZID=Europe/Paris:20220514T200000
DTSTAMP:20260424T171910
CREATED:20220423T105854Z
LAST-MODIFIED:20220423T133122Z
UID:10006901-1652551200-1652558400@espaceeclosion.fr
SUMMARY:Conférence Pascale Gérard "La présence \, regard psychologique et spirituel "
DESCRIPTION:conférence pascale 22-04-2022
URL:https://espaceeclosion.fr/event/conference-pascale-gerard-la-presence-regard-psychologique-et-spirituel/
LOCATION:Espace Eclosion\, 14 route de Clermont\, LE CENDRE\, 63670\, France
CATEGORIES:Les Conférences
ATTACH;FMTTYPE=image/jpeg:https://espaceeclosion.fr/wp-content/uploads/2022/04/portrait-Pascale-2019-scaled.jpg
ORGANIZER;CN="Association CANTACORDA":MAILTO:contacts@cantacorda.com
END:VEVENT
BEGIN:VEVENT
DTSTART;TZID=Europe/Paris:20201208T200000
DTEND;TZID=Europe/Paris:20201208T220000
DTSTAMP:20260424T171910
CREATED:20200707T181659Z
LAST-MODIFIED:20201004T195719Z
UID:10006544-1607457600-1607464800@espaceeclosion.fr
SUMMARY:LA PRESENCE Regard psychologique et spirituel avec Pascale GERARD
DESCRIPTION:La présence est une dimension essentielle et une qualité d’être fondamentale   en psychologie et dans toute approche spirituelle. \nMais qu’est-ce que la présence ? Qu’est ce qui la favorise ou l’empêche ? Nous explorerons ce thème  avec ces deux regards\, celui de la psychologie et celui de la spiritualité. \nPascale GERARD exerce en tant que psychologue\, psychothérapeute et psychanalyste de référence jungienne. En parallèle\, elle chemine dans une démarche spirituelle qui a pris différentes formes selon les périodes de sa vie. \n——————————————————————————————– \nPrésentation du livre avec l’auteure : \n \n\n  \nLa présence est une dimension essentielle de la pratique psychothérapique. C’est une qualité d’être.  Ce livre explore ce thème et ce qui favorise la présence ou non : une certaine posture intérieure\, la qualité humaine du thérapeute\, son entièreté et sa capacité à être dans la séance avec sa vulnérabilité et sa créativité\, la bienveillance\, et l’ouverture du cœur\, la sensibilité à la communication verbale et non verbale\, la possibilité à être présent ici et maintenant\, etc. Cette qualité de présence se vit parfois comme une pleine présence et rejoint alors la dimension spirituelle de l’être humain. Comment la présence du psychanalyste à son patient va-t-elle se vivre dans le transfert ? Comment la présence va-t-elle changer au cours du processus d’individuation du patient. \n\n\n\nLe livre est en vente \n\n\n\n– soit directement auprès de Pascale GERARD . Le plus simple est alors de lui téléphoner: 06 88 45 32 78 pascaleg63110@aol.com \n\n\n\n– soit en allant sur le site de l’éditeur en tapant: https://www.librinova.com/librairie/pascale-gerard/la-presence
URL:https://espaceeclosion.fr/event/espace-conferences-et-formations/
LOCATION:Espace Eclosion\, 14 route de Clermont\, LE CENDRE\, 63670\, France
CATEGORIES:Les Conférences
ATTACH;FMTTYPE=image/jpeg:https://espaceeclosion.fr/wp-content/uploads/2020/07/gerard_pascale_06303200_143107150.jpg
ORGANIZER;CN="Pascale GERARD":MAILTO:pascaleg63110@aol.com
END:VEVENT
END:VCALENDAR